BEGIN:VCALENDAR
VERSION:2.0
PRODID:EVENTFROG//EVENTGROUP//ICAL
BEGIN:VEVENT
UID:20260420T155727Z-7450831033124047118@eventfrog.at
DTSTAMP:20260420T155727Z
DTSTART:20260523T160000Z
DTEND:20260523T210000Z
SUMMARY:Ohral - Alpaka Schurfest Afterparty
DESCRIPTION:Hardy Heller und Alex Connors vom Kollektiv Ohral sorgen bei der Afterparty des Alpaka Schurfests mit elektronischer Musik für Stimmung.\n\nhttps://eventfrog.at/de/p/partys/house-techno/ohral-alpaka-schurfest-afterparty-7450831033124047118.html
LOCATION:Weingut Stefan Kuntz
GEO:49.166093;8.071581
URL:https://eventfrog.at/de/p/partys/house-techno/ohral-alpaka-schurfest-afterparty-7450831033124047118.html
END:VEVENT
BEGIN:VEVENT
UID:20260420T155727Z-7422668031728308902@eventfrog.at
DTSTAMP:20260420T155727Z
DTSTART:20260524T170000Z
DTEND:20260524T220100Z
SUMMARY:MASH Revival auf dem Alpaka Schurfest
DESCRIPTION:Nostalgischer Abend mit DJ Tom, der die besten Rock-Klassiker spielt und jugendliche Energie entfacht. Open Air Veranstaltung mit Spendenaktion.\n\n\nhttps://eventfrog.at/de/p/partys/70-s/mash-revival-auf-dem-alpaka-schurfest-7422668031728308902.html
LOCATION:Weingut Stefan Kuntz
GEO:49.166091;8.071585
URL:https://eventfrog.at/de/p/partys/70-s/mash-revival-auf-dem-alpaka-schurfest-7422668031728308902.html
END:VEVENT
END:VCALENDAR