BEGIN:VCALENDAR
VERSION:2.0
PRODID:EVENTFROG//EVENTGROUP//ICAL
BEGIN:VEVENT
UID:20260420T155726Z-7450876356370426624@eventfrog.at
DTSTAMP:20260420T155726Z
DTSTART:20260523T140000Z
DTEND:20260523T200000Z
SUMMARY:Pfingstspektakeö
DESCRIPTION:Über Pfingsten laden Heimathaus Rotenburg und die Fogelvrei Produktionen wieder auf eine Zeitreise in mittelalterliche Welten. Mit großem Markt, Kulturspektakel und Heerlagerleben.\n\nhttps://eventfrog.at/de/p/maerkte/mittelaltermarkt/pfingstspektakeoe-7450876356370426624.html
LOCATION:Heimathaus Rotenburg-Wümme
GEO:53.108380;9.396226
URL:https://eventfrog.at/de/p/maerkte/mittelaltermarkt/pfingstspektakeoe-7450876356370426624.html
END:VEVENT
BEGIN:VEVENT
UID:20260420T155726Z-7450876572142149090@eventfrog.at
DTSTAMP:20260420T155726Z
DTSTART:20260524T090000Z
DTEND:20260524T200000Z
SUMMARY:Pfingstspektakeö
DESCRIPTION:Über Pfingsten laden Heimathaus Rotenburg und die Fogelvrei Produktionen wieder auf eine Zeitreise in mittelalterliche Welten. Mit großem Markt, Kulturspektakel und Heerlagerleben.\n\nhttps://eventfrog.at/de/p/maerkte/mittelaltermarkt/pfingstspektakeoe-7450876572142149090.html
LOCATION:Heimathaus Rotenburg-Wümme
GEO:53.108380;9.396226
URL:https://eventfrog.at/de/p/maerkte/mittelaltermarkt/pfingstspektakeoe-7450876572142149090.html
END:VEVENT
BEGIN:VEVENT
UID:20260420T155726Z-7450876572393807957@eventfrog.at
DTSTAMP:20260420T155726Z
DTSTART:20260525T090000Z
DTEND:20260525T170000Z
SUMMARY:Pfingstspektakeö
DESCRIPTION:Über Pfingsten laden Heimathaus Rotenburg und die Fogelvrei Produktionen wieder auf eine Zeitreise in mittelalterliche Welten. Mit großem Markt, Kulturspektakel und Heerlagerleben.\n\nhttps://eventfrog.at/de/p/maerkte/mittelaltermarkt/pfingstspektakeoe-7450876572393807957.html
LOCATION:Heimathaus Rotenburg-Wümme
GEO:53.108380;9.396226
URL:https://eventfrog.at/de/p/maerkte/mittelaltermarkt/pfingstspektakeoe-7450876572393807957.html
END:VEVENT
END:VCALENDAR