BEGIN:VCALENDAR
VERSION:2.0
PRODID:EVENTFROG//EVENTGROUP//ICAL
BEGIN:VEVENT
UID:20260420T173552Z-7450861557582422289@eventfrog.at
DTSTAMP:20260420T173552Z
DTSTART:20260521T160000Z
DTEND:20260521T170000Z
SUMMARY:Vortragsreihe zur mentalen Gesundheit
DESCRIPTION:Sechsteilige Vortragsreihe von Mentaltrainerin Silke Meier, wie man sorgenfreier und entspannter leben kann.\n\nhttps://eventfrog.at/de/p/gesundheit-spiritualitaet/gesundheit-wohlbefinden/vortragsreihe-zur-mentalen-gesundheit-7450861557582422289.html
LOCATION:"BEST für alle" Ahrensburg e.V.
GEO:47.751074;-120.740139
URL:https://eventfrog.at/de/p/gesundheit-spiritualitaet/gesundheit-wohlbefinden/vortragsreihe-zur-mentalen-gesundheit-7450861557582422289.html
END:VEVENT
BEGIN:VEVENT
UID:20260420T173552Z-7450861688310494470@eventfrog.at
DTSTAMP:20260420T173552Z
DTSTART:20260618T160000Z
DTEND:20260618T170000Z
SUMMARY:Vortragsreihe zur mentalen Gesundheit
DESCRIPTION:Sechsteilige Vortragsreihe von Mentaltrainerin Silke Meier, wie man sorgenfreier und entspannter leben kann.\n\nhttps://eventfrog.at/de/p/gesundheit-spiritualitaet/gesundheit-wohlbefinden/vortragsreihe-zur-mentalen-gesundheit-7450861688310494470.html
LOCATION:"BEST für alle" Ahrensburg e.V.
GEO:47.751074;-120.740139
URL:https://eventfrog.at/de/p/gesundheit-spiritualitaet/gesundheit-wohlbefinden/vortragsreihe-zur-mentalen-gesundheit-7450861688310494470.html
END:VEVENT
BEGIN:VEVENT
UID:20260420T173552Z-7450861688503432456@eventfrog.at
DTSTAMP:20260420T173552Z
DTSTART:20260723T160000Z
DTEND:20260723T170000Z
SUMMARY:Vortragsreihe zur mentalen Gesundheit
DESCRIPTION:Sechsteilige Vortragsreihe von Mentaltrainerin Silke Meier, wie man sorgenfreier und entspannter leben kann.\n\nhttps://eventfrog.at/de/p/gesundheit-spiritualitaet/gesundheit-wohlbefinden/vortragsreihe-zur-mentalen-gesundheit-7450861688503432456.html
LOCATION:"BEST für alle" Ahrensburg e.V.
GEO:47.751074;-120.740139
URL:https://eventfrog.at/de/p/gesundheit-spiritualitaet/gesundheit-wohlbefinden/vortragsreihe-zur-mentalen-gesundheit-7450861688503432456.html
END:VEVENT
BEGIN:VEVENT
UID:20260420T173552Z-7450861688604095760@eventfrog.at
DTSTAMP:20260420T173552Z
DTSTART:20260917T160000Z
DTEND:20260917T170000Z
SUMMARY:Vortragsreihe zur mentalen Gesundheit
DESCRIPTION:Sechsteilige Vortragsreihe von Mentaltrainerin Silke Meier, wie man sorgenfreier und entspannter leben kann.\n\nhttps://eventfrog.at/de/p/gesundheit-spiritualitaet/gesundheit-wohlbefinden/vortragsreihe-zur-mentalen-gesundheit-7450861688604095760.html
LOCATION:"BEST für alle" Ahrensburg e.V.
GEO:47.751074;-120.740139
URL:https://eventfrog.at/de/p/gesundheit-spiritualitaet/gesundheit-wohlbefinden/vortragsreihe-zur-mentalen-gesundheit-7450861688604095760.html
END:VEVENT
BEGIN:VEVENT
UID:20260420T173552Z-7450861688721536798@eventfrog.at
DTSTAMP:20260420T173552Z
DTSTART:20261029T170000Z
DTEND:20261029T180000Z
SUMMARY:Vortragsreihe zur mentalen Gesundheit
DESCRIPTION:Sechsteilige Vortragsreihe von Mentaltrainerin Silke Meier, wie man sorgenfreier und entspannter leben kann.\n\nhttps://eventfrog.at/de/p/gesundheit-spiritualitaet/gesundheit-wohlbefinden/vortragsreihe-zur-mentalen-gesundheit-7450861688721536798.html
LOCATION:"BEST für alle" Ahrensburg e.V.
GEO:47.751074;-120.740139
URL:https://eventfrog.at/de/p/gesundheit-spiritualitaet/gesundheit-wohlbefinden/vortragsreihe-zur-mentalen-gesundheit-7450861688721536798.html
END:VEVENT
BEGIN:VEVENT
UID:20260420T173552Z-7450861688826394500@eventfrog.at
DTSTAMP:20260420T173552Z
DTSTART:20261119T170000Z
DTEND:20261119T180000Z
SUMMARY:Vortragsreihe zur mentalen Gesundheit
DESCRIPTION:Sechsteilige Vortragsreihe von Mentaltrainerin Silke Meier, wie man sorgenfreier und entspannter leben kann.\n\nhttps://eventfrog.at/de/p/gesundheit-spiritualitaet/gesundheit-wohlbefinden/vortragsreihe-zur-mentalen-gesundheit-7450861688826394500.html
LOCATION:"BEST für alle" Ahrensburg e.V.
GEO:47.751074;-120.740139
URL:https://eventfrog.at/de/p/gesundheit-spiritualitaet/gesundheit-wohlbefinden/vortragsreihe-zur-mentalen-gesundheit-7450861688826394500.html
END:VEVENT
END:VCALENDAR