BEGIN:VCALENDAR
VERSION:2.0
PRODID:EVENTFROG//EVENTGROUP//ICAL
BEGIN:VEVENT
UID:20260420T173552Z-7450805299982654804@eventfrog.at
DTSTAMP:20260420T173552Z
DTSTART:20260613T080000Z
DTEND:20260613T150000Z
SUMMARY:Haltung zeigen mit Cojones - Workshop für mehr Wirkung
DESCRIPTION:Skills klar auszudrücken, deine Haltung stärken, Techniken lernen und Nervosität meistern - inkl. Buch "Cojones! Steh für dich ein" zum Umsetzen und Weitertrainieren.\n\nhttps://eventfrog.at/de/p/kurse-seminare/sonstige-kurse-seminare/haltung-zeigen-mit-cojones-workshop-fuer-mehr-wirkung-7450805299982654804.html
LOCATION:Lerschweg 12
GEO:52.168053;7.521301
URL:https://eventfrog.at/de/p/kurse-seminare/sonstige-kurse-seminare/haltung-zeigen-mit-cojones-workshop-fuer-mehr-wirkung-7450805299982654804.html
END:VEVENT
BEGIN:VEVENT
UID:20260420T173552Z-7450808040352147929@eventfrog.at
DTSTAMP:20260420T173552Z
DTSTART:20260614T080000Z
DTEND:20260614T150000Z
SUMMARY:Schlagfertiger werden mit Cojones - Workshop für mehr Ideen
DESCRIPTION:Interaktiver Workshop, um mit kreativen Methoden Schlagfertigkeit zu trainieren und schneller klar zu antworten - inklusive Buch zum Weiterüben\n\nhttps://eventfrog.at/de/p/kurse-seminare/sonstige-kurse-seminare/schlagfertiger-werden-mit-cojones-workshop-fuer-mehr-ideen-7450808040352147929.html
LOCATION:Lerschweg 12
GEO:52.168053;7.521301
URL:https://eventfrog.at/de/p/kurse-seminare/sonstige-kurse-seminare/schlagfertiger-werden-mit-cojones-workshop-fuer-mehr-ideen-7450808040352147929.html
END:VEVENT
END:VCALENDAR