BEGIN:VCALENDAR
VERSION:2.0
PRODID:EVENTFROG//EVENTGROUP//ICAL
BEGIN:VEVENT
UID:20260424T072511Z-7450182641771406181@eventfrog.at
DTSTAMP:20260424T072511Z
DTSTART:20260530T080000Z
DTEND:20260530T090000Z
SUMMARY:Power Yoga: Emotions & the Menstrual Cycle with Amélie
DESCRIPTION:Amélie Bertschy führt in einer Yoga-Session durch Bewegung und Achtsamkeit, um Emotionen und den Menstruationszyklus zu erforschen.\n\nhttps://eventfrog.at/en/p/sport-fitness/yoga/power-yoga-emotions-the-menstrual-cycle-with-amelie-7450182641771406181.html
LOCATION:Labör
GEO:47.410852;8.538635
URL:https://eventfrog.at/en/p/sport-fitness/yoga/power-yoga-emotions-the-menstrual-cycle-with-amelie-7450182641771406181.html
END:VEVENT
BEGIN:VEVENT
UID:20260424T072511Z-7450185752854401217@eventfrog.at
DTSTAMP:20260424T072511Z
DTSTART:20260530T091500Z
DTEND:20260530T103000Z
SUMMARY:Flow & Performance: The Menstrual Cycle in Sport with Amélie
DESCRIPTION:Amélie Bertschy zeigt in einem Workshop, wie der Menstruationszyklus Energie und Leistung als wandelbare Ressourcen formt.\n\nhttps://eventfrog.at/en/p/health-spirituality/health-wellbeing/flow-performance-the-menstrual-cycle-in-sport-with-amelie-7450185752854401217.html
LOCATION:Labör
GEO:47.410852;8.538635
URL:https://eventfrog.at/en/p/health-spirituality/health-wellbeing/flow-performance-the-menstrual-cycle-in-sport-with-amelie-7450185752854401217.html
END:VEVENT
BEGIN:VEVENT
UID:20260424T072511Z-7452299939231588094@eventfrog.at
DTSTAMP:20260424T072511Z
DTSTART:20260530T103000Z
DTEND:20260530T120000Z
SUMMARY:Nourishing Your Inner Seasons: A Cycle-Supportive Lunch
DESCRIPTION:Alex Plaza führt mit einem veganen Lunch in zyklische Ernährung ein, unterstützt Energie, Stimmung und Hormone im Menstrual Festival Zürich.\n\nhttps://eventfrog.at/en/p/health-spirituality/healthy-diet/nourishing-your-inner-seasons-a-cycle-supportive-lunch-7452299939231588094.html
LOCATION:Labör
GEO:47.410852;8.538635
URL:https://eventfrog.at/en/p/health-spirituality/healthy-diet/nourishing-your-inner-seasons-a-cycle-supportive-lunch-7452299939231588094.html
END:VEVENT
BEGIN:VEVENT
UID:20260424T072511Z-7452332281635594283@eventfrog.at
DTSTAMP:20260424T072511Z
DTSTART:20260530T130000Z
DTEND:20260530T140000Z
SUMMARY:Know Your Normal — A Breast Awareness Workshop by Te Toca
DESCRIPTION:Frauen lernen in 60 Minuten mit TaToca-BH, wie sie ihre Brust selbst untersuchen und ihr «normal» erkennen.\n\nhttps://eventfrog.at/en/p/health-spirituality/health-wellbeing/know-your-normal-a-breast-awareness-workshop-by-te-toca-7452332281635594283.html
LOCATION:Labör
GEO:47.410852;8.538635
URL:https://eventfrog.at/en/p/health-spirituality/health-wellbeing/know-your-normal-a-breast-awareness-workshop-by-te-toca-7452332281635594283.html
END:VEVENT
BEGIN:VEVENT
UID:20260424T072511Z-7452278795178898833@eventfrog.at
DTSTAMP:20260424T072511Z
DTSTART:20260530T143000Z
DTEND:20260530T160000Z
SUMMARY:Painting Your Inner Season with Alejandra Abad
DESCRIPTION:Women explore their menstrual cycle’s inner season through intuitive abstract painting in a gentle, guided workshop by Alejandra Abad.\n\nhttps://eventfrog.at/en/p/courses-seminars/art-culture/painting-your-inner-season-with-alejandra-abad-7452278795178898833.html
LOCATION:Labör
GEO:47.410852;8.538635
URL:https://eventfrog.at/en/p/courses-seminars/art-culture/painting-your-inner-season-with-alejandra-abad-7452278795178898833.html
END:VEVENT
BEGIN:VEVENT
UID:20260424T072511Z-7450190785637546590@eventfrog.at
DTSTAMP:20260424T072511Z
DTSTART:20260531T120000Z
DTEND:20260531T140000Z
SUMMARY:Körper- und Selbstbild im Wandel des Zyklus
DESCRIPTION:Andrea Kuster und Livia Küng zeigen, wie der Zyklus das Körperbild prägt und fördern einen bewussten Umgang damit.\n\nhttps://eventfrog.at/en/p/health-spirituality/health-wellbeing/koerper-und-selbstbild-im-wandel-des-zyklus-7450190785637546590.html
LOCATION:Labör
GEO:47.410852;8.538635
URL:https://eventfrog.at/en/p/health-spirituality/health-wellbeing/koerper-und-selbstbild-im-wandel-des-zyklus-7450190785637546590.html
END:VEVENT
BEGIN:VEVENT
UID:20260424T072511Z-7450175391040295209@eventfrog.at
DTSTAMP:20260424T072511Z
DTSTART:20260601T153000Z
DTEND:20260601T170000Z
SUMMARY:The Astonishing Science of the Female Body with Lisa Falco
DESCRIPTION:Lisa Falco erläutert bei Menstrual Festival Zürich 2026 die zyklischen und lebensverändernden Prozesse im weiblichen Körper.\n\nhttps://eventfrog.at/en/p/science-and-technology/the-astonishing-science-of-the-female-body-with-lisa-falco-7450175391040295209.html
LOCATION:Labör
GEO:47.410852;8.538635
URL:https://eventfrog.at/en/p/science-and-technology/the-astonishing-science-of-the-female-body-with-lisa-falco-7450175391040295209.html
END:VEVENT
END:VCALENDAR