BEGIN:VCALENDAR
VERSION:2.0
PRODID:EVENTFROG//EVENTGROUP//ICAL
BEGIN:VEVENT
UID:20260420T205339Z-7449781542975496302@eventfrog.at
DTSTAMP:20260420T205339Z
DTSTART:20260609T180000Z
SUMMARY:Tridiculous - Die Show
DESCRIPTION:\nDas außergewöhnliche Trio aus Breakdance, Akrobatik, Musik und Humor begeistert am 09. und 10.06.2026 live in der Ufa Fabrik Berlin.\n\n\nhttps://eventfrog.at/de/p/theater-buehne/comedy-kabarett/tridiculous-die-show-7449781542975496302.html
LOCATION:ufaFabrik
GEO:52.454641;13.381850
URL:https://eventfrog.at/de/p/theater-buehne/comedy-kabarett/tridiculous-die-show-7449781542975496302.html
END:VEVENT
BEGIN:VEVENT
UID:20260420T205339Z-7449781654422292379@eventfrog.at
DTSTAMP:20260420T205339Z
DTSTART:20260610T180000Z
SUMMARY:Tridiculous - Die Show
DESCRIPTION:\nDas außergewöhnliche Trio aus Breakdance, Akrobatik, Musik und Humor begeistert am 09. und 10.06.2026 live in der Ufa Fabrik Berlin.\n\n\nhttps://eventfrog.at/de/p/theater-buehne/comedy-kabarett/tridiculous-die-show-7449781654422292379.html
LOCATION:ufaFabrik
GEO:52.454641;13.381850
URL:https://eventfrog.at/de/p/theater-buehne/comedy-kabarett/tridiculous-die-show-7449781654422292379.html
END:VEVENT
END:VCALENDAR