BEGIN:VCALENDAR
VERSION:2.0
PRODID:EVENTFROG//EVENTGROUP//ICAL
BEGIN:VEVENT
UID:20260419T183858Z-7449749313624786604@eventfrog.at
DTSTAMP:20260419T183858Z
DTSTART:20260509T140000Z
DTEND:20260509T160000Z
SUMMARY:Bunkertour: „Der grüne Bunker“
DESCRIPTION:Geführte Tour durch den Grünen Bunker mit 335 Stufen und historischem Einblick bis zum spektakulären Blick über Hamburg.\n\nhttps://eventfrog.at/de/p/fuehrungen-vortraege/stadtfuehrung/bunkertour-der-gruene-bunker-7449749313624786604.html
LOCATION:Medienbunker Feldstraße Turmeingang, Feldstraße 66, 20359 Hamburg, DE
GEO:53.556318;9.970072
URL:https://eventfrog.at/de/p/fuehrungen-vortraege/stadtfuehrung/bunkertour-der-gruene-bunker-7449749313624786604.html
END:VEVENT
END:VCALENDAR