BEGIN:VCALENDAR
VERSION:2.0
PRODID:EVENTFROG//EVENTGROUP//ICAL
BEGIN:VEVENT
UID:20260424T221305Z-7451392137273310721@eventfrog.at
DTSTAMP:20260424T221305Z
DTSTART:20260516T191500Z
SUMMARY:Vie privée
DESCRIPTION:Doppelbödige Krimikomödie mit Jodie Forster, Daniel Auteuil.\n\nhttps://eventfrog.at/de/p/freizeit-ausfluege/vie-privee-7451392137273310721.html
LOCATION:Kinok – Cinema in der Lokremise
GEO:47.421287;9.366104
URL:https://eventfrog.at/de/p/freizeit-ausfluege/vie-privee-7451392137273310721.html
END:VEVENT
BEGIN:VEVENT
UID:20260424T221305Z-7451392137445277187@eventfrog.at
DTSTAMP:20260424T221305Z
DTSTART:20260520T162000Z
SUMMARY:Vie privée
DESCRIPTION:Doppelbödige Krimikomödie mit Jodie Forster, Daniel Auteuil.\n\nhttps://eventfrog.at/de/p/freizeit-ausfluege/vie-privee-7451392137445277187.html
LOCATION:Kinok – Cinema in der Lokremise
GEO:47.421287;9.366104
URL:https://eventfrog.at/de/p/freizeit-ausfluege/vie-privee-7451392137445277187.html
END:VEVENT
END:VCALENDAR