BEGIN:VCALENDAR
VERSION:2.0
PRODID:EVENTFROG//EVENTGROUP//ICAL
BEGIN:VEVENT
UID:20260419T153252Z-7449522378374183574@eventfrog.at
DTSTAMP:20260419T153252Z
DTSTART:20260510T170000Z
DTEND:20260510T200000Z
SUMMARY:Saloppe SalsaTanzAbend - Salsa, Rueda, Bachata, Kizomba
DESCRIPTION:Getanzt wird u.a. Salsa, Rueda, Bachata oder Kizomba. Die Veranstaltung findet auf der Terrasse bzw. im Tanzraum statt.\n\nhttps://eventfrog.at/de/p/partys/swing/saloppe-salsatanzabend-salsa-rueda-bachata-kizomba-7449522378374183574.html
LOCATION:Saloppe Sommerwirtschaft
GEO:51.065420;13.790710
URL:https://eventfrog.at/de/p/partys/swing/saloppe-salsatanzabend-salsa-rueda-bachata-kizomba-7449522378374183574.html
END:VEVENT
BEGIN:VEVENT
UID:20260419T153252Z-7449522378437098139@eventfrog.at
DTSTAMP:20260419T153252Z
DTSTART:20260621T170000Z
DTEND:20260621T200000Z
SUMMARY:Saloppe SalsaTanzAbend - Salsa, Rueda, Bachata, Kizomba
DESCRIPTION:Getanzt wird u.a. Salsa, Rueda, Bachata oder Kizomba. Die Veranstaltung findet auf der Terrasse bzw. im Tanzraum statt.\n\nhttps://eventfrog.at/de/p/partys/swing/saloppe-salsatanzabend-salsa-rueda-bachata-kizomba-7449522378437098139.html
LOCATION:Saloppe Sommerwirtschaft
GEO:51.065420;13.790710
URL:https://eventfrog.at/de/p/partys/swing/saloppe-salsatanzabend-salsa-rueda-bachata-kizomba-7449522378437098139.html
END:VEVENT
BEGIN:VEVENT
UID:20260419T153252Z-7449522378495818400@eventfrog.at
DTSTAMP:20260419T153252Z
DTSTART:20260628T170000Z
DTEND:20260628T200000Z
SUMMARY:Saloppe SalsaTanzAbend - Salsa, Rueda, Bachata, Kizomba
DESCRIPTION:Getanzt wird u.a. Salsa, Rueda, Bachata oder Kizomba. Die Veranstaltung findet auf der Terrasse bzw. im Tanzraum statt.\n\nhttps://eventfrog.at/de/p/partys/swing/saloppe-salsatanzabend-salsa-rueda-bachata-kizomba-7449522378495818400.html
LOCATION:Saloppe Sommerwirtschaft
GEO:51.065420;13.790710
URL:https://eventfrog.at/de/p/partys/swing/saloppe-salsatanzabend-salsa-rueda-bachata-kizomba-7449522378495818400.html
END:VEVENT
BEGIN:VEVENT
UID:20260419T153252Z-7449522378558732965@eventfrog.at
DTSTAMP:20260419T153252Z
DTSTART:20260712T170000Z
DTEND:20260712T200000Z
SUMMARY:Saloppe SalsaTanzAbend - Salsa, Rueda, Bachata, Kizomba
DESCRIPTION:Getanzt wird u.a. Salsa, Rueda, Bachata oder Kizomba. Die Veranstaltung findet auf der Terrasse bzw. im Tanzraum statt.\n\nhttps://eventfrog.at/de/p/partys/swing/saloppe-salsatanzabend-salsa-rueda-bachata-kizomba-7449522378558732965.html
LOCATION:Saloppe Sommerwirtschaft
GEO:51.065420;13.790710
URL:https://eventfrog.at/de/p/partys/swing/saloppe-salsatanzabend-salsa-rueda-bachata-kizomba-7449522378558732965.html
END:VEVENT
BEGIN:VEVENT
UID:20260419T153252Z-7449522378621647530@eventfrog.at
DTSTAMP:20260419T153252Z
DTSTART:20260809T170000Z
DTEND:20260809T200000Z
SUMMARY:Saloppe SalsaTanzAbend - Salsa, Rueda, Bachata, Kizomba
DESCRIPTION:Getanzt wird u.a. Salsa, Rueda, Bachata oder Kizomba. Die Veranstaltung findet auf der Terrasse bzw. im Tanzraum statt.\n\nhttps://eventfrog.at/de/p/partys/swing/saloppe-salsatanzabend-salsa-rueda-bachata-kizomba-7449522378621647530.html
LOCATION:Saloppe Sommerwirtschaft
GEO:51.065420;13.790710
URL:https://eventfrog.at/de/p/partys/swing/saloppe-salsatanzabend-salsa-rueda-bachata-kizomba-7449522378621647530.html
END:VEVENT
BEGIN:VEVENT
UID:20260419T153252Z-7449522378680367791@eventfrog.at
DTSTAMP:20260419T153252Z
DTSTART:20260913T170000Z
DTEND:20260913T200000Z
SUMMARY:Saloppe SalsaTanzAbend - Salsa, Rueda, Bachata, Kizomba
DESCRIPTION:Getanzt wird u.a. Salsa, Rueda, Bachata oder Kizomba. Die Veranstaltung findet auf der Terrasse bzw. im Tanzraum statt.\n\nhttps://eventfrog.at/de/p/partys/swing/saloppe-salsatanzabend-salsa-rueda-bachata-kizomba-7449522378680367791.html
LOCATION:Saloppe Sommerwirtschaft
GEO:51.065420;13.790710
URL:https://eventfrog.at/de/p/partys/swing/saloppe-salsatanzabend-salsa-rueda-bachata-kizomba-7449522378680367791.html
END:VEVENT
END:VCALENDAR