BEGIN:VCALENDAR
VERSION:2.0
PRODID:EVENTFROG//EVENTGROUP//ICAL
BEGIN:VEVENT
UID:20260419T133721Z-7449470556770989029@eventfrog.at
DTSTAMP:20260419T133721Z
DTSTART:20260627T080000Z
DTEND:20260627T200000Z
SUMMARY:Kick4Kids & Viva Latino – Fussballturnier & Kulturfestival T
DESCRIPTION:Im Lachenstadion Thun findet ein zweitägiges Festival mit Fussballturnier und lateinamerikanischem Kulturprogramm für alle statt.\n\nhttps://eventfrog.at/de/p/diverses/kick4kids-viva-latino-fussballturnier-kulturfestival-t-7449470556770989029.html
LOCATION:Lachenstadion Thun
GEO:46.738425;7.627710
URL:https://eventfrog.at/de/p/diverses/kick4kids-viva-latino-fussballturnier-kulturfestival-t-7449470556770989029.html
END:VEVENT
BEGIN:VEVENT
UID:20260419T133721Z-7449470809624554893@eventfrog.at
DTSTAMP:20260419T133721Z
DTSTART:20260628T080000Z
DTEND:20260628T190000Z
SUMMARY:Kick4Kids & Viva Latino – Fussballturnier & Kulturfestival T
DESCRIPTION:Im Lachenstadion Thun findet ein zweitägiges Festival mit Fussballturnier und lateinamerikanischem Kulturprogramm für alle statt.\n\nhttps://eventfrog.at/de/p/diverses/kick4kids-viva-latino-fussballturnier-kulturfestival-t-7449470809624554893.html
LOCATION:Lachenstadion Thun
GEO:46.738425;7.627710
URL:https://eventfrog.at/de/p/diverses/kick4kids-viva-latino-fussballturnier-kulturfestival-t-7449470809624554893.html
END:VEVENT
END:VCALENDAR