BEGIN:VCALENDAR
VERSION:2.0
PRODID:EVENTFROG//EVENTGROUP//ICAL
BEGIN:VEVENT
UID:20260424T160053Z-7449440609633333487@eventfrog.at
DTSTAMP:20260424T160053Z
DTSTART:20260425T090000Z
DTEND:20260425T150000Z
SUMMARY:Künstlermarkt Lichtenwald
DESCRIPTION:Am 25./26.04.2026 11-17 Uhr findet der Künstlermarkt Lichtenwald mit handgemachte Kunst + Live-Workshops in der MZH statt. Verpflegung vor Ort, Eintritt 2 .\n\nhttps://eventfrog.at/de/p/maerkte/kunstmarkt/kuenstlermarkt-lichtenwald-7449440609633333487.html
LOCATION:Mehrzweckhalle
GEO:48.743492;9.482189
URL:https://eventfrog.at/de/p/maerkte/kunstmarkt/kuenstlermarkt-lichtenwald-7449440609633333487.html
END:VEVENT
BEGIN:VEVENT
UID:20260424T160053Z-7449440843360936542@eventfrog.at
DTSTAMP:20260424T160053Z
DTSTART:20260426T090000Z
DTEND:20260426T150000Z
SUMMARY:Künstlermarkt Lichtenwald
DESCRIPTION:Am 25./26.04.2026 11-17 Uhr findet der Künstlermarkt Lichtenwald mit handgemachte Kunst + Live-Workshops in der MZH statt. Verpflegung vor Ort, Eintritt 2 .\n\nhttps://eventfrog.at/de/p/maerkte/kunstmarkt/kuenstlermarkt-lichtenwald-7449440843360936542.html
LOCATION:Mehrzweckhalle
GEO:48.743492;9.482189
URL:https://eventfrog.at/de/p/maerkte/kunstmarkt/kuenstlermarkt-lichtenwald-7449440843360936542.html
END:VEVENT
END:VCALENDAR