BEGIN:VCALENDAR
VERSION:2.0
PRODID:EVENTFROG//EVENTGROUP//ICAL
BEGIN:VEVENT
UID:20260425T002243Z-7448294051671983211@eventfrog.at
DTSTAMP:20260425T002243Z
DTSTART:20260425T080000Z
DTEND:20260425T120000Z
SUMMARY:TOUCH MY SOUL - PATRIZIA CASAGRANDA
DESCRIPTION:Patrizia Casagranda zeigt vom 19.4. bis 12.7.2026 vielschichtige Kunst zu Empowerment, Diversity und Banksy-Neuinterpretationen.\n\nhttps://eventfrog.at/de/p/kunst-ausstellungen/ausstellung/touch-my-soul-patrizia-casagranda-7448294051671983211.html
LOCATION:Galerie Kley
GEO:51.654380;7.837530
URL:https://eventfrog.at/de/p/kunst-ausstellungen/ausstellung/touch-my-soul-patrizia-casagranda-7448294051671983211.html
END:VEVENT
BEGIN:VEVENT
UID:20260425T002243Z-7448294071842395969@eventfrog.at
DTSTAMP:20260425T002243Z
DTSTART:20260425T080000Z
DTEND:20260425T120000Z
SUMMARY:TOUCH MY SOUL - PATRIZIA CASAGRANDA
DESCRIPTION:Patrizia Casagranda zeigt vom 19.4. bis 12.7.2026 vielschichtige Kunst zu Empowerment, Diversity und Banksy-Neuinterpretationen.\n\nhttps://eventfrog.at/de/p/kunst-ausstellungen/ausstellung/touch-my-soul-patrizia-casagranda-7448294071842395969.html
LOCATION:Galerie Kley
GEO:51.654380;7.837530
URL:https://eventfrog.at/de/p/kunst-ausstellungen/ausstellung/touch-my-soul-patrizia-casagranda-7448294071842395969.html
END:VEVENT
BEGIN:VEVENT
UID:20260425T002243Z-7448294071972419395@eventfrog.at
DTSTAMP:20260425T002243Z
DTSTART:20260502T080000Z
DTEND:20260502T120000Z
SUMMARY:TOUCH MY SOUL - PATRIZIA CASAGRANDA
DESCRIPTION:Patrizia Casagranda zeigt vom 19.4. bis 12.7.2026 vielschichtige Kunst zu Empowerment, Diversity und Banksy-Neuinterpretationen.\n\nhttps://eventfrog.at/de/p/kunst-ausstellungen/ausstellung/touch-my-soul-patrizia-casagranda-7448294071972419395.html
LOCATION:Galerie Kley
GEO:51.654380;7.837530
URL:https://eventfrog.at/de/p/kunst-ausstellungen/ausstellung/touch-my-soul-patrizia-casagranda-7448294071972419395.html
END:VEVENT
BEGIN:VEVENT
UID:20260425T002243Z-7448294072102442821@eventfrog.at
DTSTAMP:20260425T002243Z
DTSTART:20260509T080000Z
DTEND:20260509T120000Z
SUMMARY:TOUCH MY SOUL - PATRIZIA CASAGRANDA
DESCRIPTION:Patrizia Casagranda zeigt vom 19.4. bis 12.7.2026 vielschichtige Kunst zu Empowerment, Diversity und Banksy-Neuinterpretationen.\n\nhttps://eventfrog.at/de/p/kunst-ausstellungen/ausstellung/touch-my-soul-patrizia-casagranda-7448294072102442821.html
LOCATION:Galerie Kley
GEO:51.654380;7.837530
URL:https://eventfrog.at/de/p/kunst-ausstellungen/ausstellung/touch-my-soul-patrizia-casagranda-7448294072102442821.html
END:VEVENT
BEGIN:VEVENT
UID:20260425T002243Z-7448294072253438297@eventfrog.at
DTSTAMP:20260425T002243Z
DTSTART:20260516T080000Z
DTEND:20260516T120000Z
SUMMARY:TOUCH MY SOUL - PATRIZIA CASAGRANDA
DESCRIPTION:Patrizia Casagranda zeigt vom 19.4. bis 12.7.2026 vielschichtige Kunst zu Empowerment, Diversity und Banksy-Neuinterpretationen.\n\nhttps://eventfrog.at/de/p/kunst-ausstellungen/ausstellung/touch-my-soul-patrizia-casagranda-7448294072253438297.html
LOCATION:Galerie Kley
GEO:51.654380;7.837530
URL:https://eventfrog.at/de/p/kunst-ausstellungen/ausstellung/touch-my-soul-patrizia-casagranda-7448294072253438297.html
END:VEVENT
BEGIN:VEVENT
UID:20260425T002243Z-7448294072391850650@eventfrog.at
DTSTAMP:20260425T002243Z
DTSTART:20260523T080000Z
DTEND:20260523T120000Z
SUMMARY:TOUCH MY SOUL - PATRIZIA CASAGRANDA
DESCRIPTION:Patrizia Casagranda zeigt vom 19.4. bis 12.7.2026 vielschichtige Kunst zu Empowerment, Diversity und Banksy-Neuinterpretationen.\n\nhttps://eventfrog.at/de/p/kunst-ausstellungen/ausstellung/touch-my-soul-patrizia-casagranda-7448294072391850650.html
LOCATION:Galerie Kley
GEO:51.654380;7.837530
URL:https://eventfrog.at/de/p/kunst-ausstellungen/ausstellung/touch-my-soul-patrizia-casagranda-7448294072391850650.html
END:VEVENT
BEGIN:VEVENT
UID:20260425T002243Z-7448294072559622834@eventfrog.at
DTSTAMP:20260425T002243Z
DTSTART:20260530T080000Z
DTEND:20260530T120000Z
SUMMARY:TOUCH MY SOUL - PATRIZIA CASAGRANDA
DESCRIPTION:Patrizia Casagranda zeigt vom 19.4. bis 12.7.2026 vielschichtige Kunst zu Empowerment, Diversity und Banksy-Neuinterpretationen.\n\nhttps://eventfrog.at/de/p/kunst-ausstellungen/ausstellung/touch-my-soul-patrizia-casagranda-7448294072559622834.html
LOCATION:Galerie Kley
GEO:51.654380;7.837530
URL:https://eventfrog.at/de/p/kunst-ausstellungen/ausstellung/touch-my-soul-patrizia-casagranda-7448294072559622834.html
END:VEVENT
BEGIN:VEVENT
UID:20260425T002243Z-7448294072710617861@eventfrog.at
DTSTAMP:20260425T002243Z
DTSTART:20260606T080000Z
DTEND:20260606T120000Z
SUMMARY:TOUCH MY SOUL - PATRIZIA CASAGRANDA
DESCRIPTION:Patrizia Casagranda zeigt vom 19.4. bis 12.7.2026 vielschichtige Kunst zu Empowerment, Diversity und Banksy-Neuinterpretationen.\n\nhttps://eventfrog.at/de/p/kunst-ausstellungen/ausstellung/touch-my-soul-patrizia-casagranda-7448294072710617861.html
LOCATION:Galerie Kley
GEO:51.654380;7.837530
URL:https://eventfrog.at/de/p/kunst-ausstellungen/ausstellung/touch-my-soul-patrizia-casagranda-7448294072710617861.html
END:VEVENT
BEGIN:VEVENT
UID:20260425T002243Z-7448294072882584337@eventfrog.at
DTSTAMP:20260425T002243Z
DTSTART:20260613T080000Z
DTEND:20260613T120000Z
SUMMARY:TOUCH MY SOUL - PATRIZIA CASAGRANDA
DESCRIPTION:Patrizia Casagranda zeigt vom 19.4. bis 12.7.2026 vielschichtige Kunst zu Empowerment, Diversity und Banksy-Neuinterpretationen.\n\nhttps://eventfrog.at/de/p/kunst-ausstellungen/ausstellung/touch-my-soul-patrizia-casagranda-7448294072882584337.html
LOCATION:Galerie Kley
GEO:51.654380;7.837530
URL:https://eventfrog.at/de/p/kunst-ausstellungen/ausstellung/touch-my-soul-patrizia-casagranda-7448294072882584337.html
END:VEVENT
BEGIN:VEVENT
UID:20260425T002243Z-7448294073033579283@eventfrog.at
DTSTAMP:20260425T002243Z
DTSTART:20260620T080000Z
DTEND:20260620T120000Z
SUMMARY:TOUCH MY SOUL - PATRIZIA CASAGRANDA
DESCRIPTION:Patrizia Casagranda zeigt vom 19.4. bis 12.7.2026 vielschichtige Kunst zu Empowerment, Diversity und Banksy-Neuinterpretationen.\n\nhttps://eventfrog.at/de/p/kunst-ausstellungen/ausstellung/touch-my-soul-patrizia-casagranda-7448294073033579283.html
LOCATION:Galerie Kley
GEO:51.654380;7.837530
URL:https://eventfrog.at/de/p/kunst-ausstellungen/ausstellung/touch-my-soul-patrizia-casagranda-7448294073033579283.html
END:VEVENT
BEGIN:VEVENT
UID:20260425T002243Z-7448294073163602709@eventfrog.at
DTSTAMP:20260425T002243Z
DTSTART:20260627T080000Z
DTEND:20260627T120000Z
SUMMARY:TOUCH MY SOUL - PATRIZIA CASAGRANDA
DESCRIPTION:Patrizia Casagranda zeigt vom 19.4. bis 12.7.2026 vielschichtige Kunst zu Empowerment, Diversity und Banksy-Neuinterpretationen.\n\nhttps://eventfrog.at/de/p/kunst-ausstellungen/ausstellung/touch-my-soul-patrizia-casagranda-7448294073163602709.html
LOCATION:Galerie Kley
GEO:51.654380;7.837530
URL:https://eventfrog.at/de/p/kunst-ausstellungen/ausstellung/touch-my-soul-patrizia-casagranda-7448294073163602709.html
END:VEVENT
BEGIN:VEVENT
UID:20260425T002243Z-7448294073318792035@eventfrog.at
DTSTAMP:20260425T002243Z
DTSTART:20260704T080000Z
DTEND:20260704T120000Z
SUMMARY:TOUCH MY SOUL - PATRIZIA CASAGRANDA
DESCRIPTION:Patrizia Casagranda zeigt vom 19.4. bis 12.7.2026 vielschichtige Kunst zu Empowerment, Diversity und Banksy-Neuinterpretationen.\n\nhttps://eventfrog.at/de/p/kunst-ausstellungen/ausstellung/touch-my-soul-patrizia-casagranda-7448294073318792035.html
LOCATION:Galerie Kley
GEO:51.654380;7.837530
URL:https://eventfrog.at/de/p/kunst-ausstellungen/ausstellung/touch-my-soul-patrizia-casagranda-7448294073318792035.html
END:VEVENT
BEGIN:VEVENT
UID:20260425T002243Z-7448294073453009765@eventfrog.at
DTSTAMP:20260425T002243Z
DTSTART:20260711T080000Z
DTEND:20260711T120000Z
SUMMARY:TOUCH MY SOUL - PATRIZIA CASAGRANDA
DESCRIPTION:Patrizia Casagranda zeigt vom 19.4. bis 12.7.2026 vielschichtige Kunst zu Empowerment, Diversity und Banksy-Neuinterpretationen.\n\nhttps://eventfrog.at/de/p/kunst-ausstellungen/ausstellung/touch-my-soul-patrizia-casagranda-7448294073453009765.html
LOCATION:Galerie Kley
GEO:51.654380;7.837530
URL:https://eventfrog.at/de/p/kunst-ausstellungen/ausstellung/touch-my-soul-patrizia-casagranda-7448294073453009765.html
END:VEVENT
END:VCALENDAR