BEGIN:VCALENDAR
VERSION:2.0
PRODID:EVENTFROG//EVENTGROUP//ICAL
BEGIN:VEVENT
UID:20260422T113304Z-7447962032983272452@eventfrog.at
DTSTAMP:20260422T113304Z
DTSTART:20260501T100000Z
DTEND:20260501T160000Z
SUMMARY:José Montealegre: Drastic Measures
DESCRIPTION:José Montealegres zweite Einzelausstellung in der Galerie Thomas Schulte.\n\nhttps://eventfrog.at/de/p/kunst-ausstellungen/ausstellung/jose-montealegre-drastic-measures-7447962032983272452.html
LOCATION:Galerie Thomas Schulte
GEO:52.500187;13.363156
URL:https://eventfrog.at/de/p/kunst-ausstellungen/ausstellung/jose-montealegre-drastic-measures-7447962032983272452.html
END:VEVENT
BEGIN:VEVENT
UID:20260422T113304Z-7447962107352478493@eventfrog.at
DTSTAMP:20260422T113304Z
DTSTART:20260501T100000Z
DTEND:20260501T160000Z
SUMMARY:José Montealegre: Drastic Measures
DESCRIPTION:José Montealegres zweite Einzelausstellung in der Galerie Thomas Schulte.\n\nhttps://eventfrog.at/de/p/kunst-ausstellungen/ausstellung/jose-montealegre-drastic-measures-7447962107352478493.html
LOCATION:Galerie Thomas Schulte
GEO:52.500187;13.363156
URL:https://eventfrog.at/de/p/kunst-ausstellungen/ausstellung/jose-montealegre-drastic-measures-7447962107352478493.html
END:VEVENT
BEGIN:VEVENT
UID:20260422T113304Z-7447962107516056959@eventfrog.at
DTSTAMP:20260422T113304Z
DTSTART:20260502T100000Z
DTEND:20260502T160000Z
SUMMARY:José Montealegre: Drastic Measures
DESCRIPTION:José Montealegres zweite Einzelausstellung in der Galerie Thomas Schulte.\n\nhttps://eventfrog.at/de/p/kunst-ausstellungen/ausstellung/jose-montealegre-drastic-measures-7447962107516056959.html
LOCATION:Galerie Thomas Schulte
GEO:52.500187;13.363156
URL:https://eventfrog.at/de/p/kunst-ausstellungen/ausstellung/jose-montealegre-drastic-measures-7447962107516056959.html
END:VEVENT
BEGIN:VEVENT
UID:20260422T113304Z-7447962107671246209@eventfrog.at
DTSTAMP:20260422T113304Z
DTSTART:20260506T100000Z
DTEND:20260506T160000Z
SUMMARY:José Montealegre: Drastic Measures
DESCRIPTION:José Montealegres zweite Einzelausstellung in der Galerie Thomas Schulte.\n\nhttps://eventfrog.at/de/p/kunst-ausstellungen/ausstellung/jose-montealegre-drastic-measures-7447962107671246209.html
LOCATION:Galerie Thomas Schulte
GEO:52.500187;13.363156
URL:https://eventfrog.at/de/p/kunst-ausstellungen/ausstellung/jose-montealegre-drastic-measures-7447962107671246209.html
END:VEVENT
BEGIN:VEVENT
UID:20260422T113304Z-7447962107809658319@eventfrog.at
DTSTAMP:20260422T113304Z
DTSTART:20260507T100000Z
DTEND:20260507T160000Z
SUMMARY:José Montealegre: Drastic Measures
DESCRIPTION:José Montealegres zweite Einzelausstellung in der Galerie Thomas Schulte.\n\nhttps://eventfrog.at/de/p/kunst-ausstellungen/ausstellung/jose-montealegre-drastic-measures-7447962107809658319.html
LOCATION:Galerie Thomas Schulte
GEO:52.500187;13.363156
URL:https://eventfrog.at/de/p/kunst-ausstellungen/ausstellung/jose-montealegre-drastic-measures-7447962107809658319.html
END:VEVENT
BEGIN:VEVENT
UID:20260422T113304Z-7447962107977430495@eventfrog.at
DTSTAMP:20260422T113304Z
DTSTART:20260508T100000Z
DTEND:20260508T160000Z
SUMMARY:José Montealegre: Drastic Measures
DESCRIPTION:José Montealegres zweite Einzelausstellung in der Galerie Thomas Schulte.\n\nhttps://eventfrog.at/de/p/kunst-ausstellungen/ausstellung/jose-montealegre-drastic-measures-7447962107977430495.html
LOCATION:Galerie Thomas Schulte
GEO:52.500187;13.363156
URL:https://eventfrog.at/de/p/kunst-ausstellungen/ausstellung/jose-montealegre-drastic-measures-7447962107977430495.html
END:VEVENT
BEGIN:VEVENT
UID:20260422T113304Z-7447962108124231137@eventfrog.at
DTSTAMP:20260422T113304Z
DTSTART:20260509T100000Z
DTEND:20260509T160000Z
SUMMARY:José Montealegre: Drastic Measures
DESCRIPTION:José Montealegres zweite Einzelausstellung in der Galerie Thomas Schulte.\n\nhttps://eventfrog.at/de/p/kunst-ausstellungen/ausstellung/jose-montealegre-drastic-measures-7447962108124231137.html
LOCATION:Galerie Thomas Schulte
GEO:52.500187;13.363156
URL:https://eventfrog.at/de/p/kunst-ausstellungen/ausstellung/jose-montealegre-drastic-measures-7447962108124231137.html
END:VEVENT
BEGIN:VEVENT
UID:20260422T113304Z-7447962108254254563@eventfrog.at
DTSTAMP:20260422T113304Z
DTSTART:20260513T100000Z
DTEND:20260513T160000Z
SUMMARY:José Montealegre: Drastic Measures
DESCRIPTION:José Montealegres zweite Einzelausstellung in der Galerie Thomas Schulte.\n\nhttps://eventfrog.at/de/p/kunst-ausstellungen/ausstellung/jose-montealegre-drastic-measures-7447962108254254563.html
LOCATION:Galerie Thomas Schulte
GEO:52.500187;13.363156
URL:https://eventfrog.at/de/p/kunst-ausstellungen/ausstellung/jose-montealegre-drastic-measures-7447962108254254563.html
END:VEVENT
BEGIN:VEVENT
UID:20260422T113304Z-7447962108396860980@eventfrog.at
DTSTAMP:20260422T113304Z
DTSTART:20260514T100000Z
DTEND:20260514T160000Z
SUMMARY:José Montealegre: Drastic Measures
DESCRIPTION:José Montealegres zweite Einzelausstellung in der Galerie Thomas Schulte.\n\nhttps://eventfrog.at/de/p/kunst-ausstellungen/ausstellung/jose-montealegre-drastic-measures-7447962108396860980.html
LOCATION:Galerie Thomas Schulte
GEO:52.500187;13.363156
URL:https://eventfrog.at/de/p/kunst-ausstellungen/ausstellung/jose-montealegre-drastic-measures-7447962108396860980.html
END:VEVENT
BEGIN:VEVENT
UID:20260422T113304Z-7447962108543661623@eventfrog.at
DTSTAMP:20260422T113304Z
DTSTART:20260515T100000Z
DTEND:20260515T160000Z
SUMMARY:José Montealegre: Drastic Measures
DESCRIPTION:José Montealegres zweite Einzelausstellung in der Galerie Thomas Schulte.\n\nhttps://eventfrog.at/de/p/kunst-ausstellungen/ausstellung/jose-montealegre-drastic-measures-7447962108543661623.html
LOCATION:Galerie Thomas Schulte
GEO:52.500187;13.363156
URL:https://eventfrog.at/de/p/kunst-ausstellungen/ausstellung/jose-montealegre-drastic-measures-7447962108543661623.html
END:VEVENT
BEGIN:VEVENT
UID:20260422T113304Z-7447962108694656569@eventfrog.at
DTSTAMP:20260422T113304Z
DTSTART:20260516T100000Z
DTEND:20260516T160000Z
SUMMARY:José Montealegre: Drastic Measures
DESCRIPTION:José Montealegres zweite Einzelausstellung in der Galerie Thomas Schulte.\n\nhttps://eventfrog.at/de/p/kunst-ausstellungen/ausstellung/jose-montealegre-drastic-measures-7447962108694656569.html
LOCATION:Galerie Thomas Schulte
GEO:52.500187;13.363156
URL:https://eventfrog.at/de/p/kunst-ausstellungen/ausstellung/jose-montealegre-drastic-measures-7447962108694656569.html
END:VEVENT
BEGIN:VEVENT
UID:20260422T113304Z-7447962108824679995@eventfrog.at
DTSTAMP:20260422T113304Z
DTSTART:20260520T100000Z
DTEND:20260520T160000Z
SUMMARY:José Montealegre: Drastic Measures
DESCRIPTION:José Montealegres zweite Einzelausstellung in der Galerie Thomas Schulte.\n\nhttps://eventfrog.at/de/p/kunst-ausstellungen/ausstellung/jose-montealegre-drastic-measures-7447962108824679995.html
LOCATION:Galerie Thomas Schulte
GEO:52.500187;13.363156
URL:https://eventfrog.at/de/p/kunst-ausstellungen/ausstellung/jose-montealegre-drastic-measures-7447962108824679995.html
END:VEVENT
BEGIN:VEVENT
UID:20260422T113304Z-7447962108967286333@eventfrog.at
DTSTAMP:20260422T113304Z
DTSTART:20260521T100000Z
DTEND:20260521T160000Z
SUMMARY:José Montealegre: Drastic Measures
DESCRIPTION:José Montealegres zweite Einzelausstellung in der Galerie Thomas Schulte.\n\nhttps://eventfrog.at/de/p/kunst-ausstellungen/ausstellung/jose-montealegre-drastic-measures-7447962108967286333.html
LOCATION:Galerie Thomas Schulte
GEO:52.500187;13.363156
URL:https://eventfrog.at/de/p/kunst-ausstellungen/ausstellung/jose-montealegre-drastic-measures-7447962108967286333.html
END:VEVENT
BEGIN:VEVENT
UID:20260422T113304Z-7447962109101504063@eventfrog.at
DTSTAMP:20260422T113304Z
DTSTART:20260522T100000Z
DTEND:20260522T160000Z
SUMMARY:José Montealegre: Drastic Measures
DESCRIPTION:José Montealegres zweite Einzelausstellung in der Galerie Thomas Schulte.\n\nhttps://eventfrog.at/de/p/kunst-ausstellungen/ausstellung/jose-montealegre-drastic-measures-7447962109101504063.html
LOCATION:Galerie Thomas Schulte
GEO:52.500187;13.363156
URL:https://eventfrog.at/de/p/kunst-ausstellungen/ausstellung/jose-montealegre-drastic-measures-7447962109101504063.html
END:VEVENT
BEGIN:VEVENT
UID:20260422T113304Z-7447962109235721812@eventfrog.at
DTSTAMP:20260422T113304Z
DTSTART:20260523T100000Z
DTEND:20260523T160000Z
SUMMARY:José Montealegre: Drastic Measures
DESCRIPTION:José Montealegres zweite Einzelausstellung in der Galerie Thomas Schulte.\n\nhttps://eventfrog.at/de/p/kunst-ausstellungen/ausstellung/jose-montealegre-drastic-measures-7447962109235721812.html
LOCATION:Galerie Thomas Schulte
GEO:52.500187;13.363156
URL:https://eventfrog.at/de/p/kunst-ausstellungen/ausstellung/jose-montealegre-drastic-measures-7447962109235721812.html
END:VEVENT
BEGIN:VEVENT
UID:20260422T113304Z-7447962109365745238@eventfrog.at
DTSTAMP:20260422T113304Z
DTSTART:20260527T100000Z
DTEND:20260527T160000Z
SUMMARY:José Montealegre: Drastic Measures
DESCRIPTION:José Montealegres zweite Einzelausstellung in der Galerie Thomas Schulte.\n\nhttps://eventfrog.at/de/p/kunst-ausstellungen/ausstellung/jose-montealegre-drastic-measures-7447962109365745238.html
LOCATION:Galerie Thomas Schulte
GEO:52.500187;13.363156
URL:https://eventfrog.at/de/p/kunst-ausstellungen/ausstellung/jose-montealegre-drastic-measures-7447962109365745238.html
END:VEVENT
BEGIN:VEVENT
UID:20260422T113304Z-7447962109504157272@eventfrog.at
DTSTAMP:20260422T113304Z
DTSTART:20260528T100000Z
DTEND:20260528T160000Z
SUMMARY:José Montealegre: Drastic Measures
DESCRIPTION:José Montealegres zweite Einzelausstellung in der Galerie Thomas Schulte.\n\nhttps://eventfrog.at/de/p/kunst-ausstellungen/ausstellung/jose-montealegre-drastic-measures-7447962109504157272.html
LOCATION:Galerie Thomas Schulte
GEO:52.500187;13.363156
URL:https://eventfrog.at/de/p/kunst-ausstellungen/ausstellung/jose-montealegre-drastic-measures-7447962109504157272.html
END:VEVENT
BEGIN:VEVENT
UID:20260422T113304Z-7447962109667735130@eventfrog.at
DTSTAMP:20260422T113304Z
DTSTART:20260529T100000Z
DTEND:20260529T160000Z
SUMMARY:José Montealegre: Drastic Measures
DESCRIPTION:José Montealegres zweite Einzelausstellung in der Galerie Thomas Schulte.\n\nhttps://eventfrog.at/de/p/kunst-ausstellungen/ausstellung/jose-montealegre-drastic-measures-7447962109667735130.html
LOCATION:Galerie Thomas Schulte
GEO:52.500187;13.363156
URL:https://eventfrog.at/de/p/kunst-ausstellungen/ausstellung/jose-montealegre-drastic-measures-7447962109667735130.html
END:VEVENT
BEGIN:VEVENT
UID:20260422T113304Z-7447962109797758556@eventfrog.at
DTSTAMP:20260422T113304Z
DTSTART:20260530T100000Z
DTEND:20260530T160000Z
SUMMARY:José Montealegre: Drastic Measures
DESCRIPTION:José Montealegres zweite Einzelausstellung in der Galerie Thomas Schulte.\n\nhttps://eventfrog.at/de/p/kunst-ausstellungen/ausstellung/jose-montealegre-drastic-measures-7447962109797758556.html
LOCATION:Galerie Thomas Schulte
GEO:52.500187;13.363156
URL:https://eventfrog.at/de/p/kunst-ausstellungen/ausstellung/jose-montealegre-drastic-measures-7447962109797758556.html
END:VEVENT
BEGIN:VEVENT
UID:20260422T113304Z-7447962109927781982@eventfrog.at
DTSTAMP:20260422T113304Z
DTSTART:20260603T100000Z
DTEND:20260603T160000Z
SUMMARY:José Montealegre: Drastic Measures
DESCRIPTION:José Montealegres zweite Einzelausstellung in der Galerie Thomas Schulte.\n\nhttps://eventfrog.at/de/p/kunst-ausstellungen/ausstellung/jose-montealegre-drastic-measures-7447962109927781982.html
LOCATION:Galerie Thomas Schulte
GEO:52.500187;13.363156
URL:https://eventfrog.at/de/p/kunst-ausstellungen/ausstellung/jose-montealegre-drastic-measures-7447962109927781982.html
END:VEVENT
BEGIN:VEVENT
UID:20260422T113304Z-7447962110078776928@eventfrog.at
DTSTAMP:20260422T113304Z
DTSTART:20260604T100000Z
DTEND:20260604T160000Z
SUMMARY:José Montealegre: Drastic Measures
DESCRIPTION:José Montealegres zweite Einzelausstellung in der Galerie Thomas Schulte.\n\nhttps://eventfrog.at/de/p/kunst-ausstellungen/ausstellung/jose-montealegre-drastic-measures-7447962110078776928.html
LOCATION:Galerie Thomas Schulte
GEO:52.500187;13.363156
URL:https://eventfrog.at/de/p/kunst-ausstellungen/ausstellung/jose-montealegre-drastic-measures-7447962110078776928.html
END:VEVENT
BEGIN:VEVENT
UID:20260422T113304Z-7447962110229771874@eventfrog.at
DTSTAMP:20260422T113304Z
DTSTART:20260605T100000Z
DTEND:20260605T160000Z
SUMMARY:José Montealegre: Drastic Measures
DESCRIPTION:José Montealegres zweite Einzelausstellung in der Galerie Thomas Schulte.\n\nhttps://eventfrog.at/de/p/kunst-ausstellungen/ausstellung/jose-montealegre-drastic-measures-7447962110229771874.html
LOCATION:Galerie Thomas Schulte
GEO:52.500187;13.363156
URL:https://eventfrog.at/de/p/kunst-ausstellungen/ausstellung/jose-montealegre-drastic-measures-7447962110229771874.html
END:VEVENT
BEGIN:VEVENT
UID:20260422T113304Z-7447962110380766820@eventfrog.at
DTSTAMP:20260422T113304Z
DTSTART:20260606T100000Z
DTEND:20260606T160000Z
SUMMARY:José Montealegre: Drastic Measures
DESCRIPTION:José Montealegres zweite Einzelausstellung in der Galerie Thomas Schulte.\n\nhttps://eventfrog.at/de/p/kunst-ausstellungen/ausstellung/jose-montealegre-drastic-measures-7447962110380766820.html
LOCATION:Galerie Thomas Schulte
GEO:52.500187;13.363156
URL:https://eventfrog.at/de/p/kunst-ausstellungen/ausstellung/jose-montealegre-drastic-measures-7447962110380766820.html
END:VEVENT
END:VCALENDAR