BEGIN:VCALENDAR
VERSION:2.0
PRODID:EVENTFROG//EVENTGROUP//ICAL
BEGIN:VEVENT
UID:20260425T014237Z-7451614775815969473@eventfrog.at
DTSTAMP:20260425T014237Z
DTSTART:20260606T180000Z
DTEND:20260606T200000Z
SUMMARY:Konzert NEXT STOP piCanti
DESCRIPTION:"NEXT STOP piCanti": eine spannende musikalische Reise. Steig ein und lass dich in ferne Länder, schwindelnde Höhen oder tiefe Abgründe entführen. Das Fernweh wird auch dich packen!\n\nhttps://eventfrog.at/de/p/konzerte/chor/konzert-next-stop-picanti-7451614775815969473.html
LOCATION:Singsaal Schulhaus
GEO:47.401128;8.177848
URL:https://eventfrog.at/de/p/konzerte/chor/konzert-next-stop-picanti-7451614775815969473.html
END:VEVENT
BEGIN:VEVENT
UID:20260425T014237Z-7442877261412313294@eventfrog.at
DTSTAMP:20260425T014237Z
DTSTART:20260607T150000Z
DTEND:20260607T170000Z
SUMMARY:Konzert NEXT STOP piCanti
DESCRIPTION:"NEXT STOP piCanti": eine spannende musikalische Reise. Steig ein und lass dich in ferne Länder, schwindelnde Höhen oder tiefe Abgründe entführen. Das Fernweh wird auch dich packen!\n\nhttps://eventfrog.at/de/p/konzerte/chor/konzert-next-stop-picanti-7442877261412313294.html
LOCATION:Singsaal Schulhaus
GEO:47.401128;8.177848
URL:https://eventfrog.at/de/p/konzerte/chor/konzert-next-stop-picanti-7442877261412313294.html
END:VEVENT
BEGIN:VEVENT
UID:20260425T014237Z-7451615300074634075@eventfrog.at
DTSTAMP:20260425T014237Z
DTSTART:20260612T180000Z
DTEND:20260612T200000Z
SUMMARY:Konzert NEXT STOP piCanti
DESCRIPTION:"NEXT STOP piCanti": eine spannende musikalische Reise. Steig ein und lass dich in ferne Länder, schwindelnde Höhen oder tiefe Abgründe entführen. Das Fernweh wird auch dich packen!\n\nhttps://eventfrog.at/de/p/konzerte/chor/konzert-next-stop-picanti-7451615300074634075.html
LOCATION:Bossartschüür
GEO:47.481400;8.223690
URL:https://eventfrog.at/de/p/konzerte/chor/konzert-next-stop-picanti-7451615300074634075.html
END:VEVENT
BEGIN:VEVENT
UID:20260425T014237Z-7451617063393606670@eventfrog.at
DTSTAMP:20260425T014237Z
DTSTART:20260613T180000Z
DTEND:20260613T203000Z
SUMMARY:Konzert NEXT STOP piCanti
DESCRIPTION:"NEXT STOP piCanti": eine spannende musikalische Reise. Steig ein und lass dich in ferne Länder, schwindelnde Höhen oder tiefe Abgründe entführen. Das Fernweh wird auch dich packen!\n\nhttps://eventfrog.at/de/p/konzerte/chor/konzert-next-stop-picanti-7451617063393606670.html
LOCATION:Malzlager, Brauerei Stadtwächter Aarau
GEO:47.396526;8.064044
URL:https://eventfrog.at/de/p/konzerte/chor/konzert-next-stop-picanti-7451617063393606670.html
END:VEVENT
END:VCALENDAR