BEGIN:VCALENDAR
VERSION:2.0
PRODID:EVENTFROG//EVENTGROUP//ICAL
BEGIN:VEVENT
UID:20260425T230455Z-7442509719036526958@eventfrog.at
DTSTAMP:20260425T230455Z
DTSTART:20260425T180000Z
DTEND:20260425T200000Z
SUMMARY:die Irrungen der weiblichen Hysterie
DESCRIPTION:Rita Winter erklärt in einem Solostück humorvoll, wie das Wischen auf Dating-Apps Singles auf der Suche nach Liebe oder Freundschaft prägt.\n\nhttps://eventfrog.at/de/p/theater-buehne/comedy-kabarett/die-irrungen-der-weiblichen-hysterie-7442509719036526958.html
LOCATION:Schauspielhaus Bergneustadt
GEO:51.021199;7.655941
URL:https://eventfrog.at/de/p/theater-buehne/comedy-kabarett/die-irrungen-der-weiblichen-hysterie-7442509719036526958.html
END:VEVENT
BEGIN:VEVENT
UID:20260425T230455Z-7442510178161849931@eventfrog.at
DTSTAMP:20260425T230455Z
DTSTART:20260516T180000Z
DTEND:20260516T200000Z
SUMMARY:die Irrungen der weiblichen Hysterie
DESCRIPTION:Rita Winter erklärt in einem Solostück humorvoll, wie das Wischen auf Dating-Apps Singles auf der Suche nach Liebe oder Freundschaft prägt.\n\nhttps://eventfrog.at/de/p/theater-buehne/comedy-kabarett/die-irrungen-der-weiblichen-hysterie-7442510178161849931.html
LOCATION:Schauspielhaus Bergneustadt
GEO:51.021199;7.655941
URL:https://eventfrog.at/de/p/theater-buehne/comedy-kabarett/die-irrungen-der-weiblichen-hysterie-7442510178161849931.html
END:VEVENT
BEGIN:VEVENT
UID:20260425T230455Z-7442510178233153612@eventfrog.at
DTSTAMP:20260425T230455Z
DTSTART:20260524T170000Z
DTEND:20260524T190000Z
SUMMARY:die Irrungen der weiblichen Hysterie
DESCRIPTION:Rita Winter erklärt in einem Solostück humorvoll, wie das Wischen auf Dating-Apps Singles auf der Suche nach Liebe oder Freundschaft prägt.\n\nhttps://eventfrog.at/de/p/theater-buehne/comedy-kabarett/die-irrungen-der-weiblichen-hysterie-7442510178233153612.html
LOCATION:Schauspielhaus Bergneustadt
GEO:51.021199;7.655941
URL:https://eventfrog.at/de/p/theater-buehne/comedy-kabarett/die-irrungen-der-weiblichen-hysterie-7442510178233153612.html
END:VEVENT
END:VCALENDAR