BEGIN:VCALENDAR
VERSION:2.0
PRODID:EVENTFROG//EVENTGROUP//ICAL
BEGIN:VEVENT
UID:20260421T152149Z-7442476353675364054@eventfrog.at
DTSTAMP:20260421T152149Z
DTSTART:20260613T160000Z
DTEND:20260613T180000Z
SUMMARY:CHORatorium „Wir sind Franziskus“
DESCRIPTION:Zum 800. Todestag des Hl. Franziskus entsteht das CHORatorium „Wir sind Franziskus“, das das Leben des Heiligen mit einer Geschichte aus dem 21. Jahrhundert in einer Live-Inszenierung verbindet.\n\nhttps://eventfrog.at/de/p/musicals-shows/musical/choratorium-wir-sind-franziskus-7442476353675364054.html
LOCATION:Gemeinde St. Josef
GEO:50.093116;8.764083
URL:https://eventfrog.at/de/p/musicals-shows/musical/choratorium-wir-sind-franziskus-7442476353675364054.html
END:VEVENT
BEGIN:VEVENT
UID:20260421T152149Z-7442480108982508757@eventfrog.at
DTSTAMP:20260421T152149Z
DTSTART:20260614T140000Z
DTEND:20260614T160000Z
SUMMARY:CHORatorium „Wir sind Franziskus“
DESCRIPTION:Zum 800. Todestag des Hl. Franziskus entsteht das CHORatorium „Wir sind Franziskus“, das das Leben des Heiligen mit einer Geschichte aus dem 21. Jahrhundert in einer Live-Inszenierung verbindet.\n\nhttps://eventfrog.at/de/p/musicals-shows/musical/choratorium-wir-sind-franziskus-7442480108982508757.html
LOCATION:Gemeinde St. Josef
GEO:50.093116;8.764083
URL:https://eventfrog.at/de/p/musicals-shows/musical/choratorium-wir-sind-franziskus-7442480108982508757.html
END:VEVENT
END:VCALENDAR