BEGIN:VCALENDAR
VERSION:2.0
PRODID:EVENTFROG//EVENTGROUP//ICAL
BEGIN:VEVENT
UID:20260419T153253Z-7439293472123684269@eventfrog.at
DTSTAMP:20260419T153253Z
DTSTART:20260425T070000Z
DTEND:20260425T160000Z
SUMMARY:Mit Kind und Kegel
DESCRIPTION:Kleingruppen von mindestens 5 Personen erhalten ermäßigten Eintritt.\n\nhttps://eventfrog.at/de/p/diverses/mit-kind-und-kegel-7439293472123684269.html
LOCATION:Erlebnispark Tripdrill
GEO:49.030324;9.051413
URL:https://eventfrog.at/de/p/diverses/mit-kind-und-kegel-7439293472123684269.html
END:VEVENT
BEGIN:VEVENT
UID:20260419T153253Z-7439293687618649324@eventfrog.at
DTSTAMP:20260419T153253Z
DTSTART:20260704T070000Z
DTEND:20260704T160000Z
SUMMARY:Mit Kind und Kegel
DESCRIPTION:Kleingruppen von mindestens 5 Personen erhalten ermäßigten Eintritt.\n\nhttps://eventfrog.at/de/p/diverses/mit-kind-und-kegel-7439293687618649324.html
LOCATION:Erlebnispark Tripdrill
GEO:49.030324;9.051413
URL:https://eventfrog.at/de/p/diverses/mit-kind-und-kegel-7439293687618649324.html
END:VEVENT
BEGIN:VEVENT
UID:20260419T153253Z-7439293687790616414@eventfrog.at
DTSTAMP:20260419T153253Z
DTSTART:20260919T070000Z
DTEND:20260919T160000Z
SUMMARY:Mit Kind und Kegel
DESCRIPTION:Kleingruppen von mindestens 5 Personen erhalten ermäßigten Eintritt.\n\nhttps://eventfrog.at/de/p/diverses/mit-kind-und-kegel-7439293687790616414.html
LOCATION:Erlebnispark Tripdrill
GEO:49.030324;9.051413
URL:https://eventfrog.at/de/p/diverses/mit-kind-und-kegel-7439293687790616414.html
END:VEVENT
BEGIN:VEVENT
UID:20260419T153253Z-7439296107635574269@eventfrog.at
DTSTAMP:20260419T153253Z
DTSTART:20261024T080000Z
DTEND:20261024T180000Z
SUMMARY:Mit Kind und Kegel
DESCRIPTION:Kleingruppen von mindestens 5 Personen erhalten ermäßigten Eintritt.\n\nhttps://eventfrog.at/de/p/diverses/mit-kind-und-kegel-7439296107635574269.html
LOCATION:Erlebnispark Tripdrill
GEO:49.030324;9.051413
URL:https://eventfrog.at/de/p/diverses/mit-kind-und-kegel-7439296107635574269.html
END:VEVENT
END:VCALENDAR