BEGIN:VCALENDAR
VERSION:2.0
PRODID:EVENTFROG//EVENTGROUP//ICAL
BEGIN:VEVENT
UID:20260424T075858Z-7427424084370148709@eventfrog.at
DTSTAMP:20260424T075858Z
DTSTART:20260424T170000Z
DTEND:20260424T220000Z
SUMMARY:Ohrenschmaus mit Luca di Felice 3
DESCRIPTION:Beim «Ohrenschmaus» verbinden sich ein saisonales 4-Gänge-Menü und Musik von Luca di Felice zu einem besonderen kulinarischen Erlebnis.\n\nhttps://eventfrog.at/de/p/essen-trinken/ohrenschmaus-mit-luca-di-felice-3-7427424084370148709.html
LOCATION:Restaurant Bellevue
GEO:46.993048;8.607482
URL:https://eventfrog.at/de/p/essen-trinken/ohrenschmaus-mit-luca-di-felice-3-7427424084370148709.html
END:VEVENT
END:VCALENDAR