BEGIN:VCALENDAR
VERSION:2.0
PRODID:EVENTFROG//EVENT//ICAL
BEGIN:VEVENT
UID:20260426T033811Z-7453922185347898653@eventfrog.at
DTSTAMP:20260426T033811Z
DTSTART:20260428T080000Z
DTEND:20260428T090000Z
SUMMARY:Ausverkauft: Be your own Superhero
DESCRIPTION:Ausverkauft: Be your own Superhero\n\nhttps://eventfrog.at/de/p/wissenschaft-und-technik/ausverkauft-be-your-own-superhero-7453922185347898653.html
LOCATION:TAK Theater Liechtenstein
GEO:47.167627;9.511821
URL:https://eventfrog.at/de/p/wissenschaft-und-technik/ausverkauft-be-your-own-superhero-7453922185347898653.html
END:VEVENT
END:VCALENDAR