BEGIN:VCALENDAR
VERSION:2.0
PRODID:EVENTFROG//EVENT//ICAL
BEGIN:VEVENT
UID:20260426T023538Z-7453878138113658377@eventfrog.at
DTSTAMP:20260426T023538Z
DTSTART:20260501T100000Z
DTEND:20260501T200000Z
SUMMARY:Mai-Day im Münsterland Dorf Erle
DESCRIPTION:Am 1. Mai lädt der Dorfplatz Erle mit Musik, Bierwagen und Hüpfburg zu entspanntem Feiertag für Jung und Alt ein.\n\nhttps://eventfrog.at/de/p/volksfeste/sommerfest/mai-day-im-muensterland-dorf-erle-7453878138113658377.html
LOCATION:HUB Erle
GEO:51.746006;6.865532
URL:https://eventfrog.at/de/p/volksfeste/sommerfest/mai-day-im-muensterland-dorf-erle-7453878138113658377.html
END:VEVENT
END:VCALENDAR