BEGIN:VCALENDAR
VERSION:2.0
PRODID:EVENTFROG//EVENT//ICAL
BEGIN:VEVENT
UID:20260425T222314Z-7453761878310786621@eventfrog.at
DTSTAMP:20260425T222314Z
DTSTART:20260430T180000Z
DTEND:20260430T200000Z
SUMMARY:Brotlos Comedy Open Mic
DESCRIPTION:"BROTLOS - Comedy Open Mic in St.Gallen mit frischen Jokes und bester Stimmung von talentierten Comedians. Lass dich überraschen und lach mit!"\n\nhttps://eventfrog.at/de/p/theater-buehne/comedy-kabarett/brotlos-comedy-open-mic-7453761878310786621.html
LOCATION:DEZENT.
GEO:47.425361;9.373692
URL:https://eventfrog.at/de/p/theater-buehne/comedy-kabarett/brotlos-comedy-open-mic-7453761878310786621.html
END:VEVENT
END:VCALENDAR