BEGIN:VCALENDAR
VERSION:2.0
PRODID:EVENTFROG//EVENT//ICAL
BEGIN:VEVENT
UID:20260425T151444Z-7453558563815878819@eventfrog.at
DTSTAMP:20260425T151444Z
DTSTART:20260515T080000Z
DTEND:20260515T170000Z
SUMMARY:Access Bars Therapy – Deep Mental Reset (Zurich)
DESCRIPTION: Access Bars® sessions in Zurich for deep mental reset, stress relief and better sleep.\n\nhttps://eventfrog.at/en/p/health-spirituality/health-wellbeing/access-bars-therapy-deep-mental-reset-zurich-7453558563815878819.html
LOCATION:Wird noch angekündigt
URL:https://eventfrog.at/en/p/health-spirituality/health-wellbeing/access-bars-therapy-deep-mental-reset-zurich-7453558563815878819.html
END:VEVENT
END:VCALENDAR