BEGIN:VCALENDAR
VERSION:2.0
PRODID:EVENTFROG//EVENT//ICAL
BEGIN:VEVENT
UID:20260425T151438Z-7453558563039932532@eventfrog.at
DTSTAMP:20260425T151438Z
DTSTART:20260430T080000Z
DTEND:20260430T170000Z
SUMMARY:Access Bars Therapy – Deep Mental Reset (Zurich)
DESCRIPTION: Access Bars® sessions in Zurich for deep mental reset, stress relief and better sleep.\n\nhttps://eventfrog.at/en/p/health-spirituality/health-wellbeing/access-bars-therapy-deep-mental-reset-zurich-7453558563039932532.html
LOCATION:Wird noch angekündigt
URL:https://eventfrog.at/en/p/health-spirituality/health-wellbeing/access-bars-therapy-deep-mental-reset-zurich-7453558563039932532.html
END:VEVENT
END:VCALENDAR