BEGIN:VCALENDAR
VERSION:2.0
PRODID:EVENTFROG//EVENT//ICAL
BEGIN:VEVENT
UID:20260425T132246Z-7453544448326170413@eventfrog.at
DTSTAMP:20260425T132246Z
DTSTART:20260502T140000Z
DTEND:20260502T150000Z
SUMMARY:Das Superheldenpuppentheater
DESCRIPTION:Ein Puppentheatergastspiel für die ganze Familie \n\nIn Delbrück auf dem Schützenplatz \nWeitere Infos auf unsere Facebookseite \nKindertheater Corellino \n\nhttps://eventfrog.at/de/p/kinderveranstaltungen/puppentheater/das-superheldenpuppentheater-7453544448326170413.html
LOCATION:Schützenplatz St. Johannes Delbrück
GEO:51.760361;8.568019
URL:https://eventfrog.at/de/p/kinderveranstaltungen/puppentheater/das-superheldenpuppentheater-7453544448326170413.html
END:VEVENT
END:VCALENDAR