BEGIN:VCALENDAR
VERSION:2.0
PRODID:EVENTFROG//EVENT//ICAL
BEGIN:VEVENT
UID:20260425T021025Z-7453532630606197599@eventfrog.at
DTSTAMP:20260425T021025Z
DTSTART:20260627T095000Z
DTEND:20260628T160000Z
SUMMARY:TICK HIT BOOM!!  Epic Roller Derby Tournament !!
DESCRIPTION:Zürich's FIRST international roller derby tournament!\nTwo days of full-contact, full-throttle, flat-track madness featuring exciting international teams.\n\nhttps://eventfrog.at/de/p/sport-fitness/sonstige-veranstaltungen/tick-hit-boom-epic-roller-derby-tournament-7453532630606197599.html
LOCATION:Sporthalle Fronwald
GEO:47.420616;8.511967
URL:https://eventfrog.at/de/p/sport-fitness/sonstige-veranstaltungen/tick-hit-boom-epic-roller-derby-tournament-7453532630606197599.html
END:VEVENT
END:VCALENDAR