BEGIN:VCALENDAR
VERSION:2.0
PRODID:EVENTFROG//EVENT//ICAL
BEGIN:VEVENT
UID:20260424T214239Z-7453486208255006890@eventfrog.at
DTSTAMP:20260424T214239Z
DTSTART:20260620T180000Z
DTEND:20260620T200000Z
SUMMARY:20 JUN: Mike Casa Comedy Show GENEVA!
DESCRIPTION:After the last 4 SOLD OUT shows in 2025, Mike Casa is back in GENEVA with his solo show in ENGLISH! \n\nhttps://eventfrog.at/de/p/theater-buehne/comedy-kabarett/20-jun-mike-casa-comedy-show-geneva-7453486208255006890.html
LOCATION:Village du Soir
GEO:46.176612;6.127955
URL:https://eventfrog.at/de/p/theater-buehne/comedy-kabarett/20-jun-mike-casa-comedy-show-geneva-7453486208255006890.html
END:VEVENT
END:VCALENDAR