BEGIN:VCALENDAR
VERSION:2.0
PRODID:EVENTFROG//EVENT//ICAL
BEGIN:VEVENT
UID:20260424T215119Z-7453423227156577641@eventfrog.at
DTSTAMP:20260424T215119Z
DTSTART:20260605T210000Z
DTEND:20260606T030000Z
SUMMARY:Laut & Frei - Sing Loud, Dance Free
DESCRIPTION:Am 5. Juni 2026 verwandelt sich der Vior Club in eine Party mit Pop- und Rockklassikern zum lauten Mitsingen und freien Tanzen.\n\nhttps://eventfrog.at/de/p/partys/pop-rock/laut-frei-sing-loud-dance-free-7453423227156577641.html
LOCATION:VIOR
GEO:47.373004;8.534968
URL:https://eventfrog.at/de/p/partys/pop-rock/laut-frei-sing-loud-dance-free-7453423227156577641.html
END:VEVENT
END:VCALENDAR