BEGIN:VCALENDAR
VERSION:2.0
PRODID:EVENTFROG//EVENT//ICAL
BEGIN:VEVENT
UID:20260425T214959Z-7453417298818247198@eventfrog.at
DTSTAMP:20260425T214959Z
DTSTART:20260515T150000Z
DTEND:20260516T070000Z
SUMMARY:Kinder Lesenacht
DESCRIPTION:Kinder Lesenacht im Museum\n\nhttps://eventfrog.at/de/p/kinderveranstaltungen/ferienprogramm/kinder-lesenacht-7453417298818247198.html
LOCATION:Kinder Lesenacht
GEO:47.555100;7.624700
URL:https://eventfrog.at/de/p/kinderveranstaltungen/ferienprogramm/kinder-lesenacht-7453417298818247198.html
END:VEVENT
END:VCALENDAR