BEGIN:VCALENDAR
VERSION:2.0
PRODID:EVENTFROG//EVENT//ICAL
BEGIN:VEVENT
UID:20260425T210543Z-7453416125742724577@eventfrog.at
DTSTAMP:20260425T210543Z
DTSTART:20260515T210000Z
DTEND:20260516T030000Z
SUMMARY:ORO 30+ Reggaeton Latin Night @ Vior Club
DESCRIPTION:Am 15. Mai bringt DJ Bronx im VIOR Club Zürich mit Latin Beats eine stilvolle 30+ Reggaeton Nacht.\n\nhttps://eventfrog.at/de/p/partys/latin-brasil/oro-30-reggaeton-latin-night-vior-club-7453416125742724577.html
LOCATION:VIOR
GEO:47.373004;8.534968
URL:https://eventfrog.at/de/p/partys/latin-brasil/oro-30-reggaeton-latin-night-vior-club-7453416125742724577.html
END:VEVENT
END:VCALENDAR