BEGIN:VCALENDAR
VERSION:2.0
PRODID:EVENTFROG//EVENT//ICAL
BEGIN:VEVENT
UID:20260426T002604Z-7453403201376636163@eventfrog.at
DTSTAMP:20260426T002604Z
DTSTART:20260509T150000Z
SUMMARY:Vernissage in der Villa Wild
DESCRIPTION:Christiane Hinrichs und Ueli Strebel verwandeln die Villa Wild mit ihren Licht- und Foto-Installationen in einen spannenden Ausstellungsort. Musik: Felix Brühwiler; Einführung: Michaela Allemann\n\nhttps://eventfrog.at/de/p/kunst-ausstellungen/vernissage/vernissage-in-der-villa-wild-7453403201376636163.html
LOCATION:Kunsthaus Villa Wild
GEO:47.276268;8.339623
URL:https://eventfrog.at/de/p/kunst-ausstellungen/vernissage/vernissage-in-der-villa-wild-7453403201376636163.html
END:VEVENT
END:VCALENDAR