BEGIN:VCALENDAR
VERSION:2.0
PRODID:EVENTFROG//EVENT//ICAL
BEGIN:VEVENT
UID:20260424T182609Z-7453381453075743287@eventfrog.at
DTSTAMP:20260424T182609Z
DTSTART:20270213T183000Z
DTEND:20270213T223000Z
SUMMARY:Musical Dinner Show
DESCRIPTION:Musical Dinner Show in Leipzig: Einzigartiges Erlebnis mit Live-Gesang und Inszenierungen aus beliebten Musicals. Genießen Sie ein exquisites Menü und tauchen Sie in die Welt der Musical ein.\n\nhttps://eventfrog.at/de/p/musicals-shows/show/musical-dinner-show-7453381453075743287.html
LOCATION:Pentahotel Leipzig
GEO:51.340828;12.386860
URL:https://eventfrog.at/de/p/musicals-shows/show/musical-dinner-show-7453381453075743287.html
END:VEVENT
END:VCALENDAR