BEGIN:VCALENDAR
VERSION:2.0
PRODID:EVENTFROG//EVENT//ICAL
BEGIN:VEVENT
UID:20260424T153057Z-7453372681972361062@eventfrog.at
DTSTAMP:20260424T153057Z
DTSTART:20260708T120000Z
DTEND:20260708T170000Z
SUMMARY:Summer-Kunschti
DESCRIPTION:Die Summer-Kunschti Margarethen geht in die nächste Runde! Entdecke eine bunte Welt aus Sport, Spiel und Spass. Spielmaterial kann vor Ort gegen ein Pfand ausgeliehen oder selber mitgebracht werden.\n\nhttps://eventfrog.at/de/p/kinderveranstaltungen/familienveranstaltungen/summer-kunschti-7453372681972361062.html
LOCATION:Kunsteisbahn Margarethen
GEO:47.540713;7.586089
URL:https://eventfrog.at/de/p/kinderveranstaltungen/familienveranstaltungen/summer-kunschti-7453372681972361062.html
END:VEVENT
END:VCALENDAR