BEGIN:VCALENDAR
VERSION:2.0
PRODID:EVENTFROG//EVENT//ICAL
BEGIN:VEVENT
UID:20260424T153831Z-7453372680495965828@eventfrog.at
DTSTAMP:20260424T153831Z
DTSTART:20260612T120000Z
DTEND:20260612T170000Z
SUMMARY:Summer-Kunschti
DESCRIPTION:Die Summer-Kunschti Margarethen geht in die nächste Runde! Entdecke eine bunte Welt aus Sport, Spiel und Spass. Spielmaterial kann vor Ort gegen ein Pfand ausgeliehen oder selber mitgebracht werden.\n\nhttps://eventfrog.at/de/p/kinderveranstaltungen/familienveranstaltungen/summer-kunschti-7453372680495965828.html
LOCATION:Kunsteisbahn Margarethen
GEO:47.540713;7.586089
URL:https://eventfrog.at/de/p/kinderveranstaltungen/familienveranstaltungen/summer-kunschti-7453372680495965828.html
END:VEVENT
END:VCALENDAR