BEGIN:VCALENDAR
VERSION:2.0
PRODID:EVENTFROG//EVENT//ICAL
BEGIN:VEVENT
UID:20260424T223032Z-7453372202819291184@eventfrog.at
DTSTAMP:20260424T223032Z
DTSTART:20260613T180000Z
SUMMARY:Piano Dinner: Cinematic Sounds – Ein Abend wie im Film
DESCRIPTION:Erlebe ein exklusives Piano Dinner mit Filmmusik, live am Klavier interpretiert, begleitet von einem 4-Gang Menü.\nEin Abend voller Atmosphäre, Genuss und Emotion.\n\nhttps://eventfrog.at/de/p/konzerte/weitere-musikrichtungen/piano-dinner-cinematic-sounds-ein-abend-wie-im-film-7453372202819291184.html
LOCATION:Restaurant Enja
GEO:47.373671;8.537329
URL:https://eventfrog.at/de/p/konzerte/weitere-musikrichtungen/piano-dinner-cinematic-sounds-ein-abend-wie-im-film-7453372202819291184.html
END:VEVENT
END:VCALENDAR