BEGIN:VCALENDAR
VERSION:2.0
PRODID:EVENTFROG//EVENT//ICAL
BEGIN:VEVENT
UID:20260424T161351Z-7453364448352284185@eventfrog.at
DTSTAMP:20260424T161351Z
DTSTART:20260521T180500Z
SUMMARY:LE GIN SPECTACLE D’IMPROVISATION
DESCRIPTION:LE GIN improvise un spectacle interactif à partir de vos photos au Cinéstudio d'Yverdon, 4e édition cette année.\n15% de rabais à LA FABRICA + un petit popcorn offert ! \n\nhttps://eventfrog.at/fr/p/theatre-scene/theatre/le-gin-spectacle-dimprovisation-7453364448352284185.html
LOCATION:Explorit
GEO:46.766040;6.643029
URL:https://eventfrog.at/fr/p/theatre-scene/theatre/le-gin-spectacle-dimprovisation-7453364448352284185.html
END:VEVENT
END:VCALENDAR