BEGIN:VCALENDAR
VERSION:2.0
PRODID:EVENTFROG//EVENT//ICAL
BEGIN:VEVENT
UID:20260426T032437Z-7453361333473416968@eventfrog.at
DTSTAMP:20260426T032437Z
DTSTART:20260502T100000Z
DTEND:20260502T210000Z
SUMMARY:11. Streetfooddays Bülach
DESCRIPTION:Vier Tage Streetfood mit Gerichten aus aller Welt und Live-Musik auf dem Lindenhof Bülach laden zum gemeinsamen Schlemmen ein.\n\nhttps://eventfrog.at/de/p/essen-trinken/11-streetfooddays-buelach-7453361333473416968.html
LOCATION:Lindenhof
GEO:47.520115;8.538807
URL:https://eventfrog.at/de/p/essen-trinken/11-streetfooddays-buelach-7453361333473416968.html
END:VEVENT
END:VCALENDAR