BEGIN:VCALENDAR
VERSION:2.0
PRODID:EVENTFROG//EVENT//ICAL
BEGIN:VEVENT
UID:20260425T151926Z-7453350718277175212@eventfrog.at
DTSTAMP:20260425T151926Z
DTSTART:20260510T080000Z
DTEND:20260510T150000Z
SUMMARY:Internationaler Museumstag im Naturmuseum St.Gallen
DESCRIPTION:Spurensuche für Klein und Gross - am Museumstag ist der Eintritt frei. \n\nhttps://eventfrog.at/de/p/diverses/internationaler-museumstag-im-naturmuseum-st-gallen-7453350718277175212.html
LOCATION:Naturmuseum St.Gallen
GEO:47.439470;9.408700
URL:https://eventfrog.at/de/p/diverses/internationaler-museumstag-im-naturmuseum-st-gallen-7453350718277175212.html
END:VEVENT
END:VCALENDAR