BEGIN:VCALENDAR
VERSION:2.0
PRODID:EVENTFROG//EVENT//ICAL
BEGIN:VEVENT
UID:20260424T211232Z-7453342638617409541@eventfrog.at
DTSTAMP:20260424T211232Z
DTSTART:20260522T170000Z
DTEND:20260522T193000Z
SUMMARY:Dating mit ADHS
DESCRIPTION:Der Workshop vermittelt Strategien für mehr Klarheit und Selbstvertrauen beim Dating und Kennenlernen mit ADHS.\n\nhttps://eventfrog.at/de/p/dating/sonstige-veranstaltungen/dating-mit-adhs-7453342638617409541.html
LOCATION:Online-Event
URL:https://eventfrog.at/de/p/dating/sonstige-veranstaltungen/dating-mit-adhs-7453342638617409541.html
END:VEVENT
END:VCALENDAR