BEGIN:VCALENDAR
VERSION:2.0
PRODID:EVENTFROG//EVENT//ICAL
BEGIN:VEVENT
UID:20260426T041823Z-7453338559593892658@eventfrog.at
DTSTAMP:20260426T041823Z
DTSTART:20260509T163000Z
DTEND:20260509T220000Z
SUMMARY:Mit 66 Jahren: Schlagermusik-Tanz mit Live-Radio-DJ
DESCRIPTION:Florian Rexer bringt mit Schlager und Oldies im Bärenkeller am 9. Mai gute Laune und Tanzfreude für maximal 66 Gäste.\n\nhttps://eventfrog.at/de/p/partys/schlager-volksmusik/mit-66-jahren-schlagermusik-tanz-mit-live-radio-dj-7453338559593892658.html
LOCATION:Gasthof Bären
GEO:47.321347;7.899205
URL:https://eventfrog.at/de/p/partys/schlager-volksmusik/mit-66-jahren-schlagermusik-tanz-mit-live-radio-dj-7453338559593892658.html
END:VEVENT
END:VCALENDAR