BEGIN:VCALENDAR
VERSION:2.0
PRODID:EVENTFROG//EVENT//ICAL
BEGIN:VEVENT
UID:20260424T072526Z-7453202035917251874@eventfrog.at
DTSTAMP:20260424T072526Z
DTSTART:20260612T180000Z
DTEND:20260612T200000Z
SUMMARY:Bumillo
DESCRIPTION:Kabarett mit Christian Bumeder alias "Bumillo".\n\nhttps://eventfrog.at/de/p/theater-buehne/bumillo-7453202035917251874.html
LOCATION:Besucherzentrum Brauquöll - Brauerei Locher AG
GEO:47.331080;9.412719
URL:https://eventfrog.at/de/p/theater-buehne/bumillo-7453202035917251874.html
END:VEVENT
END:VCALENDAR