BEGIN:VCALENDAR
VERSION:2.0
PRODID:EVENTFROG//EVENT//ICAL
BEGIN:VEVENT
UID:20260424T214101Z-7453202033673299220@eventfrog.at
DTSTAMP:20260424T214101Z
DTSTART:20260810T160000Z
DTEND:20260810T164000Z
SUMMARY:Kurzlesung Mit Gregor Stäheli
DESCRIPTION:Kurzlesung Mit Gregor Stäheli\n\nhttps://eventfrog.at/de/p/theater-buehne/kurzlesung-mit-gregor-staeheli-7453202033673299220.html
LOCATION:Innenhof der Stadtbibliothek
GEO:47.498667;8.729541
URL:https://eventfrog.at/de/p/theater-buehne/kurzlesung-mit-gregor-staeheli-7453202033673299220.html
END:VEVENT
END:VCALENDAR