BEGIN:VCALENDAR
VERSION:2.0
PRODID:EVENTFROG//EVENT//ICAL
BEGIN:VEVENT
UID:20260424T090136Z-7453201432423995188@eventfrog.at
DTSTAMP:20260424T090136Z
DTSTART:20260429T110000Z
DTEND:20260429T183000Z
SUMMARY:Fotoausflug durch Thurgauer Hügellandschaft
DESCRIPTION:Fotoausflug durch Thurgauer Hügellandschaft\n\nhttps://eventfrog.at/de/p/kurse-seminare/fotoausflug-durch-thurgauer-huegellandschaft-7453201432423995188.html
LOCATION:Kanton Thurgau
GEO:47.556340;8.895791
URL:https://eventfrog.at/de/p/kurse-seminare/fotoausflug-durch-thurgauer-huegellandschaft-7453201432423995188.html
END:VEVENT
END:VCALENDAR