BEGIN:VCALENDAR
VERSION:2.0
PRODID:EVENTFROG//EVENT//ICAL
BEGIN:VEVENT
UID:20260424T090234Z-7453200235327702067@eventfrog.at
DTSTAMP:20260424T090234Z
DTSTART:20260506T160000Z
DTEND:20260506T190000Z
SUMMARY:MEISTERhaftes Werken mit Willi
DESCRIPTION:MEISTERhaftes Werken mit Willi\n\nhttps://eventfrog.at/de/p/kurse-seminare/meisterhaftes-werken-mit-willi-7453200235327702067.html
LOCATION:TreffPunkt Kaserne / Stadtkaserne Frauenfeld
GEO:47.558406;8.898429
URL:https://eventfrog.at/de/p/kurse-seminare/meisterhaftes-werken-mit-willi-7453200235327702067.html
END:VEVENT
END:VCALENDAR