BEGIN:VCALENDAR
VERSION:2.0
PRODID:EVENTFROG//EVENT//ICAL
BEGIN:VEVENT
UID:20260424T161118Z-7453167218899045530@eventfrog.at
DTSTAMP:20260424T161118Z
DTSTART:20260425T080000Z
DTEND:20260425T110000Z
SUMMARY:Flohmarkt
DESCRIPTION:Flohmarkt mit 5 Euro Standgebühr pro lfd. Meter, jeder kann mitmachen!\n\n\nhttps://eventfrog.at/de/p/maerkte/flohmarkt/flohmarkt-7453167218899045530.html
LOCATION:IGS Ludwigshafen Gartenstadt
GEO:49.468409;8.402697
URL:https://eventfrog.at/de/p/maerkte/flohmarkt/flohmarkt-7453167218899045530.html
END:VEVENT
END:VCALENDAR