BEGIN:VCALENDAR
VERSION:2.0
PRODID:EVENTFROG//EVENT//ICAL
BEGIN:VEVENT
UID:20260424T043001Z-7453151756144375731@eventfrog.at
DTSTAMP:20260424T043001Z
DTSTART:20260628T090000Z
DTEND:20260628T110000Z
SUMMARY:DRAG BRUNCH im calvi
DESCRIPTION:Im calvi erleben Sie einen Drag Brunch mit Divi Divine, Gast-Queens und einer mitreissenden Show inklusive Brunch-Teller.\n\nhttps://eventfrog.at/de/p/musicals-shows/travestie/drag-brunch-im-calvi-7453151756144375731.html
LOCATION:CALVI - café & vintage clothing
GEO:48.397756;9.993182
URL:https://eventfrog.at/de/p/musicals-shows/travestie/drag-brunch-im-calvi-7453151756144375731.html
END:VEVENT
END:VCALENDAR