BEGIN:VCALENDAR
VERSION:2.0
PRODID:EVENTFROG//EVENT//ICAL
BEGIN:VEVENT
UID:20260424T045043Z-7453151674930061780@eventfrog.at
DTSTAMP:20260424T045043Z
DTSTART:20260427T063000Z
DTEND:20260502T160000Z
SUMMARY:archive revival POP UP
DESCRIPTION:Vom 27. April bis 2. Mai werden im Coop City Basel handgefertigte Mode, Accessoires und Deko aus upgecycelten Textilien lokaler Designer:innen verkauft.\n\nhttps://eventfrog.at/de/p/maerkte/second-hand/archive-revival-pop-up-7453151674930061780.html
LOCATION:Coop City Basel (Marktplatz)
GEO:47.557392;7.587792
URL:https://eventfrog.at/de/p/maerkte/second-hand/archive-revival-pop-up-7453151674930061780.html
END:VEVENT
END:VCALENDAR