BEGIN:VCALENDAR
VERSION:2.0
PRODID:EVENTFROG//EVENT//ICAL
BEGIN:VEVENT
UID:20260424T035059Z-7453124514420921324@eventfrog.at
DTSTAMP:20260424T035059Z
DTSTART:20260613T180000Z
DTEND:20260613T194500Z
SUMMARY:Tablao Flamenco - "Con Aires de Tango"
DESCRIPTION:Flamenco Al Golpe lädt mit Künstlern aus Buenos Aires zu einem leidenschaftlichen Flamenco-Abend im Kellertheater ein.\n\nhttps://eventfrog.at/de/p/musicals-shows/tanzshow/tablao-flamenco-con-aires-de-tango-7453124514420921324.html
LOCATION:Kellertheater Winterthur
GEO:47.499400;8.727120
URL:https://eventfrog.at/de/p/musicals-shows/tanzshow/tablao-flamenco-con-aires-de-tango-7453124514420921324.html
END:VEVENT
END:VCALENDAR