BEGIN:VCALENDAR
VERSION:2.0
PRODID:EVENTFROG//EVENT//ICAL
BEGIN:VEVENT
UID:20260424T072523Z-7453116450250688410@eventfrog.at
DTSTAMP:20260424T072523Z
DTSTART:20260502T200000Z
DTEND:20260503T020000Z
SUMMARY:SoulExpress X Palais Mascotte Zurich
DESCRIPTION:Soul Express Collective bringt neapolitanischen Soul mit house, disco und elektronischen Rhythmen ins Palais Mascotte in Zürich.\n\nhttps://eventfrog.at/en/p/parties/house-techno/soulexpress-x-palais-mascotte-zurich-7453116450250688410.html
LOCATION:palais mascotte
GEO:47.366383;8.546748
URL:https://eventfrog.at/en/p/parties/house-techno/soulexpress-x-palais-mascotte-zurich-7453116450250688410.html
END:VEVENT
END:VCALENDAR