BEGIN:VCALENDAR
VERSION:2.0
PRODID:EVENTFROG//EVENT//ICAL
BEGIN:VEVENT
UID:20260424T072444Z-7453107791642784352@eventfrog.at
DTSTAMP:20260424T072444Z
DTSTART:20260608T163000Z
DTEND:20260608T180000Z
SUMMARY:Held:innen des Alltags
DESCRIPTION:Generationentheaterprojekt\n\nhttps://eventfrog.at/de/p/theater-buehne/buehnenveranstaltung/held-innen-des-alltags-7453107791642784352.html
LOCATION:Aula Primarschule Rittergasse
GEO:47.555670;7.592404
URL:https://eventfrog.at/de/p/theater-buehne/buehnenveranstaltung/held-innen-des-alltags-7453107791642784352.html
END:VEVENT
END:VCALENDAR