BEGIN:VCALENDAR
VERSION:2.0
PRODID:EVENTFROG//EVENT//ICAL
BEGIN:VEVENT
UID:20260424T000511Z-7453098234140988011@eventfrog.at
DTSTAMP:20260424T000511Z
DTSTART:20260608T065000Z
DTEND:20260608T165000Z
SUMMARY:AGENDA EUROPE 2035 + TOP-Konferenz Digitalisierung und IKT
DESCRIPTION:Am 8. Juni 2026 sprechen hochkarätige Expert:innen in Fachvorträgen, Paneldiskussionen und Keynotes zu Digitalisierung und Innovation im privaten und öffentlichen Sektor.\n\nhttps://eventfrog.at/de/p/kurse-seminare/computer-edv/agenda-europe-2035-top-konferenz-digitalisierung-und-ikt-7453098234140988011.html
LOCATION:Virtuelles Rathaus (Teilnahme nur online möglich)
GEO:48.210247;16.355223
URL:https://eventfrog.at/de/p/kurse-seminare/computer-edv/agenda-europe-2035-top-konferenz-digitalisierung-und-ikt-7453098234140988011.html
END:VEVENT
END:VCALENDAR